BEGIN:VCALENDAR
VERSION:2.0
PRODID:-//Liberty, Kentucky - ECPv6.15.20//NONSGML v1.0//EN
CALSCALE:GREGORIAN
METHOD:PUBLISH
X-WR-CALNAME:Liberty, Kentucky
X-ORIGINAL-URL:https://explorelibertyky.com
X-WR-CALDESC:Events for Liberty, Kentucky
REFRESH-INTERVAL;VALUE=DURATION:PT1H
X-Robots-Tag:noindex
X-PUBLISHED-TTL:PT1H
BEGIN:VTIMEZONE
TZID:America/New_York
BEGIN:DAYLIGHT
TZOFFSETFROM:-0500
TZOFFSETTO:-0400
TZNAME:EDT
DTSTART:20240310T070000
END:DAYLIGHT
BEGIN:STANDARD
TZOFFSETFROM:-0400
TZOFFSETTO:-0500
TZNAME:EST
DTSTART:20241103T060000
END:STANDARD
BEGIN:DAYLIGHT
TZOFFSETFROM:-0500
TZOFFSETTO:-0400
TZNAME:EDT
DTSTART:20250309T070000
END:DAYLIGHT
BEGIN:STANDARD
TZOFFSETFROM:-0400
TZOFFSETTO:-0500
TZNAME:EST
DTSTART:20251102T060000
END:STANDARD
BEGIN:DAYLIGHT
TZOFFSETFROM:-0500
TZOFFSETTO:-0400
TZNAME:EDT
DTSTART:20260308T070000
END:DAYLIGHT
BEGIN:STANDARD
TZOFFSETFROM:-0400
TZOFFSETTO:-0500
TZNAME:EST
DTSTART:20261101T060000
END:STANDARD
END:VTIMEZONE
BEGIN:VEVENT
DTSTART;TZID=America/New_York:20250704T180000
DTEND;TZID=America/New_York:20250704T210000
DTSTAMP:20260419T215222
CREATED:20241218T173126Z
LAST-MODIFIED:20241218T173126Z
UID:10000477-1751652000-1751662800@explorelibertyky.com
SUMMARY:Liberty Cruisers Friday Night Car Show
DESCRIPTION:Liberty Friday Night Cruisers comes to downtown Liberty around the Courthouse Square every first Friday of the month April-October! Vendors and cars will be covering the streets from 6-9p EST.\n****Car & Vendor Registration is FREE & on-site\, NO online or pre-registration. Do NOT message commenters requesting private messages.
URL:https://explorelibertyky.com/event/liberty-cruisers-friday-night-car-show/
LOCATION:Courthouse Square
CATEGORIES:Car show,Outdoor Events
ATTACH;FMTTYPE=image/jpeg:https://explorelibertyky.com/wp-content/uploads/2024/12/Car-Show-2025.jpg
END:VEVENT
BEGIN:VEVENT
DTSTART;VALUE=DATE:20250719
DTEND;VALUE=DATE:20250727
DTSTAMP:20260419T215222
CREATED:20250325T191410Z
LAST-MODIFIED:20250325T191410Z
UID:10000498-1752883200-1753574399@explorelibertyky.com
SUMMARY:Casey County Fair 2025
DESCRIPTION:The 2025 Casey County Fair will be held on July 19th through July 26th at the Central Kentucky Ag Expo Center! This year the rodeo will be bigger\, truck & tractor pulls\, family night will host more fun and games\, and so much more!\nFor all updated event times/happenings follow the fair’s Facebook page https://www.facebook.com/profile.php?id=100094638399654
URL:https://explorelibertyky.com/event/casey-county-fair-2025/
LOCATION:Central KY Ag Expo Center\, 678 Wallace Wilkinson Blvd\, Liberty\, KY\, 42539
CATEGORIES:Car show,Entertainment,equestrian,Fair/Festival,Outdoor Events,Pageants
ATTACH;FMTTYPE=image/jpeg:https://explorelibertyky.com/wp-content/uploads/2025/03/ccf-2025.jpg
ORGANIZER;CN="Casey County Fair Board":MAILTO:greg.goode@windstream.net
END:VEVENT
END:VCALENDAR