BEGIN:VCALENDAR
VERSION:2.0
PRODID:-//Liberty, Kentucky - ECPv6.15.20//NONSGML v1.0//EN
CALSCALE:GREGORIAN
METHOD:PUBLISH
X-ORIGINAL-URL:https://explorelibertyky.com
X-WR-CALDESC:Events for Liberty, Kentucky
REFRESH-INTERVAL;VALUE=DURATION:PT1H
X-Robots-Tag:noindex
X-PUBLISHED-TTL:PT1H
BEGIN:VTIMEZONE
TZID:America/New_York
BEGIN:DAYLIGHT
TZOFFSETFROM:-0500
TZOFFSETTO:-0400
TZNAME:EDT
DTSTART:20250309T070000
END:DAYLIGHT
BEGIN:STANDARD
TZOFFSETFROM:-0400
TZOFFSETTO:-0500
TZNAME:EST
DTSTART:20251102T060000
END:STANDARD
BEGIN:DAYLIGHT
TZOFFSETFROM:-0500
TZOFFSETTO:-0400
TZNAME:EDT
DTSTART:20260308T070000
END:DAYLIGHT
BEGIN:STANDARD
TZOFFSETFROM:-0400
TZOFFSETTO:-0500
TZNAME:EST
DTSTART:20261101T060000
END:STANDARD
BEGIN:DAYLIGHT
TZOFFSETFROM:-0500
TZOFFSETTO:-0400
TZNAME:EDT
DTSTART:20270314T070000
END:DAYLIGHT
BEGIN:STANDARD
TZOFFSETFROM:-0400
TZOFFSETTO:-0500
TZNAME:EST
DTSTART:20271107T060000
END:STANDARD
END:VTIMEZONE
BEGIN:VEVENT
DTSTART;TZID=America/New_York:20260904T180000
DTEND;TZID=America/New_York:20260904T210000
DTSTAMP:20260420T020259
CREATED:20260123T200429Z
LAST-MODIFIED:20260123T200455Z
UID:10000533-1788544800-1788555600@explorelibertyky.com
SUMMARY:Liberty Friday Night Cruisers Car Show
DESCRIPTION:Liberty Friday Night Cruisers comes to downtown Liberty around the Courthouse Square every first Friday of the month April-October! Vendors and cars will be covering the streets from 6-9 PM EST.\n****Car & Vendor Registration is FREE & on-site\, NO online or pre-registration. Do NOT message commenters requesting private messages.
URL:https://explorelibertyky.com/event/liberty-friday-night-cruisers-car-show-12/
LOCATION:Courthouse Square
CATEGORIES:Car show,Outdoor Events
ATTACH;FMTTYPE=image/jpeg:https://explorelibertyky.com/wp-content/uploads/2024/12/Car-Show-2025.jpg
END:VEVENT
BEGIN:VEVENT
DTSTART;TZID=America/New_York:20260910T163000
DTEND;TZID=America/New_York:20260910T190000
DTSTAMP:20260420T020259
CREATED:20260123T201009Z
LAST-MODIFIED:20260123T201009Z
UID:10000553-1789057800-1789066800@explorelibertyky.com
SUMMARY:Casey County Farmers Market
DESCRIPTION:  \nFind a variety of produce and handmade goods! May-September \nEvery week\, Thursdays from 4:30-7 PM ET. \nAddress: 289 Wallace Wilkinson Blvd\, Liberty\, KY 42539
URL:https://explorelibertyky.com/event/casey-county-farmers-market-33/2026-09-10/
LOCATION:289 Wallace Wilkinson Blvd\, Liberty\, KY 42539\, Address: 289 Wallace Wilkinson Blvd\, Liberty\, KY 42539\, Liberty\, 42539\, United States
CATEGORIES:Farming/Produce,Outdoor Events,Shopping
ATTACH;FMTTYPE=image/png:https://explorelibertyky.com/wp-content/uploads/2026/01/475305025_647951164234552_3094898974337944984_n.png
END:VEVENT
BEGIN:VEVENT
DTSTART;TZID=America/New_York:20260911T183000
DTEND;TZID=America/New_York:20260911T213000
DTSTAMP:20260420T020259
CREATED:20260224T135626Z
LAST-MODIFIED:20260224T135626Z
UID:10000568-1789151400-1789162200@explorelibertyky.com
SUMMARY:Summer Music Series- Nicholas Jamerson and The Morning Jays
DESCRIPTION:The 4th Season of the Summer Music Series is HERE and your Second Fridays just got better. \nWHO: You. Bring a chair. Bring your people. Stay awhile. \nWHAT: FREE Live Music + Local Food & Drinks \nWHEN: Food & Drinks at 6:30 PM ET | Music at 6:45 PM ET \nWHERE: City Green Stage | Downtown Liberty \n2026 Lineup\, Every 2nd Friday\, May–September: \nMay 8- Clay Johnson and the Hard Promises with Alayna Bodner \nJune 12- The Dirty Grass Players with T.H. Wells \nJuly 10- Magnolia Boulevard with Anthony Kennedy \nAugust 14- Cam Clark and His Orchestra with Hunter Daniels \nSeptember 11- Nicholas Jamerson and The Morning Jays with Aidan Palmer \nFive unforgettable nights. \nOne incredible stage. \nAll summer long. \nClick “Going” on each event so you don’t miss updates. \nExploreLibertyKY.com | 606-706-7777
URL:https://explorelibertyky.com/event/summer-music-series-nicholas-jamerson-and-the-morning-jays/
LOCATION:City Green Stage\, 518 Middleburg Street\, Liberty\, KY\, 42539\, United States
CATEGORIES:Music,Outdoor Events
ATTACH;FMTTYPE=image/png:https://explorelibertyky.com/wp-content/uploads/2026/02/SMS-2026-FB-SOCIAL-Poster-3-scaled.png
ORGANIZER;CN="Liberty Tourism &amp%3B Convention Commission":MAILTO:noreply@facebookmail.com
END:VEVENT
BEGIN:VEVENT
DTSTART;TZID=America/New_York:20260917T163000
DTEND;TZID=America/New_York:20260917T190000
DTSTAMP:20260420T020259
CREATED:20260123T201009Z
LAST-MODIFIED:20260123T201009Z
UID:10000554-1789662600-1789671600@explorelibertyky.com
SUMMARY:Casey County Farmers Market
DESCRIPTION:  \nFind a variety of produce and handmade goods! May-September \nEvery week\, Thursdays from 4:30-7 PM ET. \nAddress: 289 Wallace Wilkinson Blvd\, Liberty\, KY 42539
URL:https://explorelibertyky.com/event/casey-county-farmers-market-33/2026-09-17/
LOCATION:289 Wallace Wilkinson Blvd\, Liberty\, KY 42539\, Address: 289 Wallace Wilkinson Blvd\, Liberty\, KY 42539\, Liberty\, 42539\, United States
CATEGORIES:Farming/Produce,Outdoor Events,Shopping
ATTACH;FMTTYPE=image/png:https://explorelibertyky.com/wp-content/uploads/2026/01/475305025_647951164234552_3094898974337944984_n.png
END:VEVENT
BEGIN:VEVENT
DTSTART;VALUE=DATE:20260924
DTEND;VALUE=DATE:20260927
DTSTAMP:20260420T020259
CREATED:20260305T175747Z
LAST-MODIFIED:20260305T180212Z
UID:10000574-1790208000-1790467199@explorelibertyky.com
SUMMARY:52nd Casey County Apple Festival
DESCRIPTION:The 2026 Casey County Apple Festival will mark 52 years of downtown fun and tradition!\nThe Casey County Apple Festival will be held from September 24 to 26\, 2026. It will feature live music\, concerts\, pageants\, contests\, a parade\, carnival\, flea market booths\, arts and crafts vendors\, apples and apple creations\, food vendors\, and more.Thursday 3pm-11pm;Friday 8am-midnight;Saturday 8am-midnight\nFull schedule TBA in September\nImportant notice: This event page is being targeted by scammers claiming to sell vendor spots. Please do not attempt to purchase from these individuals\, and be aware that we cannot accept credit/debit card payments or wire transfers.\n\nhttps://caseycountyapplefestival.org/home
URL:https://explorelibertyky.com/event/52nd-casey-county-apple-festival/
LOCATION:Courthouse Square
CATEGORIES:Arts and Crafts,Entertainment,Fair/Festival,Music,Outdoor Events,Pageants,Shopping
ATTACH;FMTTYPE=image/jpeg:https://explorelibertyky.com/wp-content/uploads/2026/03/624143455_1486389456691608_4125714095819982086_n.jpg
END:VEVENT
BEGIN:VEVENT
DTSTART;TZID=America/New_York:20260924T163000
DTEND;TZID=America/New_York:20260924T190000
DTSTAMP:20260420T020259
CREATED:20260123T201009Z
LAST-MODIFIED:20260123T201009Z
UID:10000555-1790267400-1790276400@explorelibertyky.com
SUMMARY:Casey County Farmers Market
DESCRIPTION:  \nFind a variety of produce and handmade goods! May-September \nEvery week\, Thursdays from 4:30-7 PM ET. \nAddress: 289 Wallace Wilkinson Blvd\, Liberty\, KY 42539
URL:https://explorelibertyky.com/event/casey-county-farmers-market-33/2026-09-24/
LOCATION:289 Wallace Wilkinson Blvd\, Liberty\, KY 42539\, Address: 289 Wallace Wilkinson Blvd\, Liberty\, KY 42539\, Liberty\, 42539\, United States
CATEGORIES:Farming/Produce,Outdoor Events,Shopping
ATTACH;FMTTYPE=image/png:https://explorelibertyky.com/wp-content/uploads/2026/01/475305025_647951164234552_3094898974337944984_n.png
END:VEVENT
BEGIN:VEVENT
DTSTART;TZID=America/New_York:20261002T180000
DTEND;TZID=America/New_York:20261002T210000
DTSTAMP:20260420T020259
CREATED:20260123T200531Z
LAST-MODIFIED:20260123T200531Z
UID:10000534-1790964000-1790974800@explorelibertyky.com
SUMMARY:Liberty Friday Night Cruisers Car Show
DESCRIPTION:Liberty Friday Night Cruisers comes to downtown Liberty around the Courthouse Square every first Friday of the month April-October! Vendors and cars will be covering the streets from 6-9 PM EST.\n****Car & Vendor Registration is FREE & on-site\, NO online or pre-registration. Do NOT message commenters requesting private messages.
URL:https://explorelibertyky.com/event/liberty-friday-night-cruisers-car-show-13/
LOCATION:Courthouse Square
CATEGORIES:Car show,Outdoor Events
ATTACH;FMTTYPE=image/jpeg:https://explorelibertyky.com/wp-content/uploads/2024/12/Car-Show-2025.jpg
END:VEVENT
END:VCALENDAR