BEGIN:VCALENDAR
VERSION:2.0
PRODID:-//Liberty, Kentucky - ECPv6.15.20//NONSGML v1.0//EN
CALSCALE:GREGORIAN
METHOD:PUBLISH
X-WR-CALNAME:Liberty, Kentucky
X-ORIGINAL-URL:https://explorelibertyky.com
X-WR-CALDESC:Events for Liberty, Kentucky
REFRESH-INTERVAL;VALUE=DURATION:PT1H
X-Robots-Tag:noindex
X-PUBLISHED-TTL:PT1H
BEGIN:VTIMEZONE
TZID:America/New_York
BEGIN:DAYLIGHT
TZOFFSETFROM:-0500
TZOFFSETTO:-0400
TZNAME:EDT
DTSTART:20250309T070000
END:DAYLIGHT
BEGIN:STANDARD
TZOFFSETFROM:-0400
TZOFFSETTO:-0500
TZNAME:EST
DTSTART:20251102T060000
END:STANDARD
BEGIN:DAYLIGHT
TZOFFSETFROM:-0500
TZOFFSETTO:-0400
TZNAME:EDT
DTSTART:20260308T070000
END:DAYLIGHT
BEGIN:STANDARD
TZOFFSETFROM:-0400
TZOFFSETTO:-0500
TZNAME:EST
DTSTART:20261101T060000
END:STANDARD
BEGIN:DAYLIGHT
TZOFFSETFROM:-0500
TZOFFSETTO:-0400
TZNAME:EDT
DTSTART:20270314T070000
END:DAYLIGHT
BEGIN:STANDARD
TZOFFSETFROM:-0400
TZOFFSETTO:-0500
TZNAME:EST
DTSTART:20271107T060000
END:STANDARD
END:VTIMEZONE
BEGIN:VEVENT
DTSTART;TZID=America/New_York:20260501T180000
DTEND;TZID=America/New_York:20260501T210000
DTSTAMP:20260419T153104
CREATED:20260123T200225Z
LAST-MODIFIED:20260123T200225Z
UID:10000529-1777658400-1777669200@explorelibertyky.com
SUMMARY:Liberty Friday Night Cruisers Car Show
DESCRIPTION:Liberty Friday Night Cruisers comes to downtown Liberty around the Courthouse Square every first Friday of the month April-October! Vendors and cars will be covering the streets from 6-9 PM EST.\n****Car & Vendor Registration is FREE & on-site\, NO online or pre-registration. Do NOT message commenters requesting private messages.
URL:https://explorelibertyky.com/event/liberty-friday-night-cruisers-car-show-8/
LOCATION:Courthouse Square
CATEGORIES:Car show,Outdoor Events
ATTACH;FMTTYPE=image/jpeg:https://explorelibertyky.com/wp-content/uploads/2024/12/Car-Show-2025.jpg
END:VEVENT
BEGIN:VEVENT
DTSTART;TZID=America/New_York:20260501T180000
DTEND;TZID=America/New_York:20260502T180000
DTSTAMP:20260419T153104
CREATED:20260129T203934Z
LAST-MODIFIED:20260129T204149Z
UID:10000556-1777658400-1777744800@explorelibertyky.com
SUMMARY:Green River Gaited Horse Sale
DESCRIPTION:May 1-2 will be the 2nd annual gaited sale at the beautiful Central KY AG Expo center in Liberty Ky.\nFollow the Green River Gaited Horse Classic Page on Facebook for announcements.\nFor more info\, please contact Jesse Green 2706340646 or Clayton Ryan 2707662641\n\nhttps://www.facebook.com/profile.php?id=61580519667184 \nSee less
URL:https://explorelibertyky.com/event/green-river-gaited-horse-sale/
LOCATION:Central KY Ag Expo Center\, 678 Wallace Wilkinson Blvd\, Liberty\, KY\, 42539
CATEGORIES:Entertainment,equestrian,Shopping
ATTACH;FMTTYPE=image/jpeg:https://explorelibertyky.com/wp-content/uploads/2026/01/618015713_1479807537349800_4901511198588541031_n.jpg
END:VEVENT
BEGIN:VEVENT
DTSTART;TZID=America/New_York:20260507T163000
DTEND;TZID=America/New_York:20260507T190000
DTSTAMP:20260419T153104
CREATED:20260123T201009Z
LAST-MODIFIED:20260123T201009Z
UID:10000535-1778171400-1778180400@explorelibertyky.com
SUMMARY:Casey County Farmers Market
DESCRIPTION:  \nFind a variety of produce and handmade goods! May-September \nEvery week\, Thursdays from 4:30-7 PM ET. \nAddress: 289 Wallace Wilkinson Blvd\, Liberty\, KY 42539
URL:https://explorelibertyky.com/event/casey-county-farmers-market-33/2026-05-07/
LOCATION:289 Wallace Wilkinson Blvd\, Liberty\, KY 42539\, Address: 289 Wallace Wilkinson Blvd\, Liberty\, KY 42539\, Liberty\, 42539\, United States
CATEGORIES:Farming/Produce,Outdoor Events,Shopping
ATTACH;FMTTYPE=image/png:https://explorelibertyky.com/wp-content/uploads/2026/01/475305025_647951164234552_3094898974337944984_n.png
END:VEVENT
BEGIN:VEVENT
DTSTART;TZID=America/New_York:20260508T090000
DTEND;TZID=America/New_York:20260510T120000
DTSTAMP:20260419T153104
CREATED:20260130T153735Z
LAST-MODIFIED:20260130T154011Z
UID:10000558-1778230800-1778414400@explorelibertyky.com
SUMMARY:National Ranch Horse Association- Ranch Horse Association of Kentucky
DESCRIPTION:May 8-10\, 2026Central Kentucky Ag/Expo Center678 Wallace Wilkinson Blvd\, Liberty\, KY 42539\, USAinfo@americanranchhorse.netranchhorseassociationofkentucky.com\nFollow: Ranch Horse Association of Kentucky on facebook for up-to-date information.\nMore details and schedule to come.\n\nhttps://americanranchhorse.net/ARHAShows.asp \nSee less
URL:https://explorelibertyky.com/event/national-ranch-horse-association-ranch-horse-association-of-kentucky/
LOCATION:Central KY Ag Expo Center\, 678 Wallace Wilkinson Blvd\, Liberty\, KY\, 42539
CATEGORIES:Entertainment,equestrian,Sporting Events
ATTACH;FMTTYPE=image/jpeg:https://explorelibertyky.com/wp-content/uploads/2026/01/598381361_871902265337145_3513807713240858100_n.jpg
END:VEVENT
BEGIN:VEVENT
DTSTART;TZID=America/New_York:20260508T183000
DTEND;TZID=America/New_York:20260508T213000
DTSTAMP:20260419T153104
CREATED:20260224T134011Z
LAST-MODIFIED:20260224T135314Z
UID:10000564-1778265000-1778275800@explorelibertyky.com
SUMMARY:Summer Music Series- Clay Johnson and the Hard Promises
DESCRIPTION:The 4th Season of the Summer Music Series is HERE and your Second Fridays just got better. \nWHO: You. Bring a chair. Bring your people. Stay awhile. \nWHAT: FREE Live Music + Local Food & Drinks \nWHEN: Food & Drinks at 6:30 PM ET | Music at 6:45 PM ET \nWHERE: City Green Stage | Downtown Liberty \n2026 Lineup\, Every 2nd Friday\, May–September: \nMay 8- Clay Johnson and the Hard Promises with Alayna Bodner \nJune 12- The Dirty Grass Players with T.H. Wells \nJuly 10- Magnolia Boulevard with Anthony Kennedy \nAugust 14- Cam Clark and His Orchestra with Hunter Daniels \nSeptember 11- Nicholas Jamerson and The Morning Jays with Aidan Palmer \nFive unforgettable nights. \nOne incredible stage. \nAll summer long. \nClick “Going” on each event so you don’t miss updates. \nExploreLibertyKY.com | 606-706-7777
URL:https://explorelibertyky.com/event/summer-music-series-11/
LOCATION:City Green Stage\, 518 Middleburg Street\, Liberty\, KY\, 42539\, United States
CATEGORIES:Music,Outdoor Events
ATTACH;FMTTYPE=image/png:https://explorelibertyky.com/wp-content/uploads/2026/02/SMS-2026-FB-SOCIAL-Poster-3-scaled.png
ORGANIZER;CN="Liberty Tourism &amp%3B Convention Commission":MAILTO:noreply@facebookmail.com
END:VEVENT
BEGIN:VEVENT
DTSTART;TZID=America/New_York:20260514T163000
DTEND;TZID=America/New_York:20260514T190000
DTSTAMP:20260419T153104
CREATED:20260123T201009Z
LAST-MODIFIED:20260123T201009Z
UID:10000536-1778776200-1778785200@explorelibertyky.com
SUMMARY:Casey County Farmers Market
DESCRIPTION:  \nFind a variety of produce and handmade goods! May-September \nEvery week\, Thursdays from 4:30-7 PM ET. \nAddress: 289 Wallace Wilkinson Blvd\, Liberty\, KY 42539
URL:https://explorelibertyky.com/event/casey-county-farmers-market-33/2026-05-14/
LOCATION:289 Wallace Wilkinson Blvd\, Liberty\, KY 42539\, Address: 289 Wallace Wilkinson Blvd\, Liberty\, KY 42539\, Liberty\, 42539\, United States
CATEGORIES:Farming/Produce,Outdoor Events,Shopping
ATTACH;FMTTYPE=image/png:https://explorelibertyky.com/wp-content/uploads/2026/01/475305025_647951164234552_3094898974337944984_n.png
END:VEVENT
BEGIN:VEVENT
DTSTART;TZID=America/New_York:20260521T163000
DTEND;TZID=America/New_York:20260521T190000
DTSTAMP:20260419T153104
CREATED:20260123T201009Z
LAST-MODIFIED:20260123T201009Z
UID:10000537-1779381000-1779390000@explorelibertyky.com
SUMMARY:Casey County Farmers Market
DESCRIPTION:  \nFind a variety of produce and handmade goods! May-September \nEvery week\, Thursdays from 4:30-7 PM ET. \nAddress: 289 Wallace Wilkinson Blvd\, Liberty\, KY 42539
URL:https://explorelibertyky.com/event/casey-county-farmers-market-33/2026-05-21/
LOCATION:289 Wallace Wilkinson Blvd\, Liberty\, KY 42539\, Address: 289 Wallace Wilkinson Blvd\, Liberty\, KY 42539\, Liberty\, 42539\, United States
CATEGORIES:Farming/Produce,Outdoor Events,Shopping
ATTACH;FMTTYPE=image/png:https://explorelibertyky.com/wp-content/uploads/2026/01/475305025_647951164234552_3094898974337944984_n.png
END:VEVENT
BEGIN:VEVENT
DTSTART;TZID=America/New_York:20260523T083000
DTEND;TZID=America/New_York:20260524T170000
DTSTAMP:20260419T153104
CREATED:20260324T163335Z
LAST-MODIFIED:20260324T163447Z
UID:10000575-1779525000-1779642000@explorelibertyky.com
SUMMARY:Bluegrass Mini Horse State Show
DESCRIPTION:Saturday & Sunday – 8:30 a.m. (EST)\nEntry Deadline – May 10\, 2026\nShow Manager:\nLisa Leonard\n270-929-6292 (cell)\nmini34@mindspring.com\n678 S. Wallace Wilkinson (US 127)\nLiberty\, KY 42539\n606-787-4740\nWebsite:\nhttps://www.bluegrassminiatures.com/horse-shows
URL:https://explorelibertyky.com/event/bluegrass-mini-horse-state-show-2/
LOCATION:Central KY Ag Expo Center\, 678 Wallace Wilkinson Blvd\, Liberty\, KY\, 42539
CATEGORIES:equestrian,Sporting Events
ATTACH;FMTTYPE=image/png:https://explorelibertyky.com/wp-content/uploads/2026/03/Screenshot-2026-03-24-at-12.24.13-PM.png
END:VEVENT
BEGIN:VEVENT
DTSTART;TZID=America/New_York:20260523T123000
DTEND;TZID=America/New_York:20260523T220000
DTSTAMP:20260419T153104
CREATED:20260203T163157Z
LAST-MODIFIED:20260224T144801Z
UID:10000562-1779539400-1779573600@explorelibertyky.com
SUMMARY:5th Annual Live in Liberty Music Festival
DESCRIPTION:Live in Liberty Music Festival returns for its 5th Annual celebration on Memorial Weekend 2026 and we are celebrating 250 years of America in true Liberty style. \nJoin us Saturday\, May 23rd in Downtown Liberty for a full day of FREE live music on the City Green Stage. \n12:30 PM Heavy Holler\n2:30 PM Night Train\n4:30 PM Stone Blue\n6:30 PM Eight Daze Sober\n8:30 PM Five Below Band \nFive bands. One stage. All day long. \nMusic kicks off at 12:30 PM ET at 518 Middleburg Street. Bring your chairs\, bring your friends\, and plan to stay awhile. \nTag your concert crew. Mark your calendar. Celebrate Memorial Weekend with us in Liberty. \n#LiveInLiberty #MemorialWeekend #America250 #KentuckyMusic #DowntownLiberty
URL:https://explorelibertyky.com/event/5th-annual-live-in-liberty-music-festival/
LOCATION:City Green Stage\, 518 Middleburg Street\, Liberty\, KY\, 42539\, United States
CATEGORIES:Music,Outdoor Events
ATTACH;FMTTYPE=image/png:https://explorelibertyky.com/wp-content/uploads/2026/02/Copy-of-Live-Poster-2023-scaled.png
END:VEVENT
BEGIN:VEVENT
DTSTART;TZID=America/New_York:20260528T163000
DTEND;TZID=America/New_York:20260528T190000
DTSTAMP:20260419T153104
CREATED:20260123T201009Z
LAST-MODIFIED:20260123T201009Z
UID:10000538-1779985800-1779994800@explorelibertyky.com
SUMMARY:Casey County Farmers Market
DESCRIPTION:  \nFind a variety of produce and handmade goods! May-September \nEvery week\, Thursdays from 4:30-7 PM ET. \nAddress: 289 Wallace Wilkinson Blvd\, Liberty\, KY 42539
URL:https://explorelibertyky.com/event/casey-county-farmers-market-33/2026-05-28/
LOCATION:289 Wallace Wilkinson Blvd\, Liberty\, KY 42539\, Address: 289 Wallace Wilkinson Blvd\, Liberty\, KY 42539\, Liberty\, 42539\, United States
CATEGORIES:Farming/Produce,Outdoor Events,Shopping
ATTACH;FMTTYPE=image/png:https://explorelibertyky.com/wp-content/uploads/2026/01/475305025_647951164234552_3094898974337944984_n.png
END:VEVENT
BEGIN:VEVENT
DTSTART;TZID=America/New_York:20260530T180000
DTEND;TZID=America/New_York:20260530T213000
DTSTAMP:20260419T153104
CREATED:20260130T161508Z
LAST-MODIFIED:20260130T161508Z
UID:10000559-1780164000-1780176600@explorelibertyky.com
SUMMARY:Spring Fun Show-Spur A
DESCRIPTION:We will be having a series of fun shows this year ontop of our rodeos!So far our dates for fun shows are :April 18th – Liberty kyMay 30th – Liberty kyJune 20th – Liberty KyAnd July 3rd – Liberty ky\nJuly 21st -Liberty ky Casey co Educational Fair\nFollow Spur A Productions on Facebook for more info.859-779-0397leek.ashley@yahoo.com
URL:https://explorelibertyky.com/event/spring-fun-show-spur-a-2/
LOCATION:Central KY Ag Expo Center\, 678 Wallace Wilkinson Blvd\, Liberty\, KY\, 42539
CATEGORIES:Entertainment,equestrian,Sporting Events
ATTACH;FMTTYPE=image/jpeg:https://explorelibertyky.com/wp-content/uploads/2026/01/418576524_391309486742672_1845359937951776817_n.jpg
END:VEVENT
END:VCALENDAR