BEGIN:VCALENDAR
VERSION:2.0
PRODID:-//Liberty, Kentucky - ECPv6.15.20//NONSGML v1.0//EN
CALSCALE:GREGORIAN
METHOD:PUBLISH
X-ORIGINAL-URL:https://explorelibertyky.com
X-WR-CALDESC:Events for Liberty, Kentucky
REFRESH-INTERVAL;VALUE=DURATION:PT1H
X-Robots-Tag:noindex
X-PUBLISHED-TTL:PT1H
BEGIN:VTIMEZONE
TZID:America/New_York
BEGIN:DAYLIGHT
TZOFFSETFROM:-0500
TZOFFSETTO:-0400
TZNAME:EDT
DTSTART:20250309T070000
END:DAYLIGHT
BEGIN:STANDARD
TZOFFSETFROM:-0400
TZOFFSETTO:-0500
TZNAME:EST
DTSTART:20251102T060000
END:STANDARD
BEGIN:DAYLIGHT
TZOFFSETFROM:-0500
TZOFFSETTO:-0400
TZNAME:EDT
DTSTART:20260308T070000
END:DAYLIGHT
BEGIN:STANDARD
TZOFFSETFROM:-0400
TZOFFSETTO:-0500
TZNAME:EST
DTSTART:20261101T060000
END:STANDARD
BEGIN:DAYLIGHT
TZOFFSETFROM:-0500
TZOFFSETTO:-0400
TZNAME:EDT
DTSTART:20270314T070000
END:DAYLIGHT
BEGIN:STANDARD
TZOFFSETFROM:-0400
TZOFFSETTO:-0500
TZNAME:EST
DTSTART:20271107T060000
END:STANDARD
END:VTIMEZONE
BEGIN:VEVENT
DTSTART;TZID=America/New_York:20260604T163000
DTEND;TZID=America/New_York:20260604T190000
DTSTAMP:20260419T200502
CREATED:20260123T201009Z
LAST-MODIFIED:20260123T201009Z
UID:10000539-1780590600-1780599600@explorelibertyky.com
SUMMARY:Casey County Farmers Market
DESCRIPTION:  \nFind a variety of produce and handmade goods! May-September \nEvery week\, Thursdays from 4:30-7 PM ET. \nAddress: 289 Wallace Wilkinson Blvd\, Liberty\, KY 42539
URL:https://explorelibertyky.com/event/casey-county-farmers-market-33/2026-06-04/
LOCATION:289 Wallace Wilkinson Blvd\, Liberty\, KY 42539\, Address: 289 Wallace Wilkinson Blvd\, Liberty\, KY 42539\, Liberty\, 42539\, United States
CATEGORIES:Farming/Produce,Outdoor Events,Shopping
ATTACH;FMTTYPE=image/png:https://explorelibertyky.com/wp-content/uploads/2026/01/475305025_647951164234552_3094898974337944984_n.png
END:VEVENT
BEGIN:VEVENT
DTSTART;VALUE=DATE:20260605
DTEND;VALUE=DATE:20260608
DTSTAMP:20260419T200502
CREATED:20260305T170212Z
LAST-MODIFIED:20260309T142212Z
UID:10000570-1780617600-1780876799@explorelibertyky.com
SUMMARY:Kentucky Quarter Horse Club Championship
DESCRIPTION:Who: Kentucky Quarter Horse Association (KYQHA) competitors\, riders\, and horse enthusiasts \nWhat: The 2026 KYQHA Lady Luck Circuit\, a multi-day Quarter Horse show featuring a full slate of classes including showmanship\, halter\, western pleasure\, ranch riding\, trail\, reining\, hunter under saddle\, and youth and 4-H competitions. \nWhen: June 5–7\, 2026• Friday begins at 7:00 PM ET• Saturday and Sunday begin at 8:00 AM ET \nWhere: Casey County Ag Expo Center \n678 S Wallace Wilkinson BlvdLiberty\, Kentucky \nThe event will bring riders from across the region to Liberty for three days of competition judged by Mike Carter (TN) and Pete McAlister (IN). \n2026 June KYQHA Show Schedule FINAL 3-3-26 \n\nKY Quarter Horse Association\,PO Box 43386\,Louisville\, KYKY 40253-0085 – 0386Phone: 888-367-5742email: kentuckyqh@kyqha.comwww.kyqha.com \n 
URL:https://explorelibertyky.com/event/kentucky-quarter-horse-club-championship-2/
LOCATION:Central KY Ag Expo Center\, 678 Wallace Wilkinson Blvd\, Liberty\, KY\, 42539
CATEGORIES:equestrian
ATTACH;FMTTYPE=image/png:https://explorelibertyky.com/wp-content/uploads/2026/03/KYQHA-logo.png
END:VEVENT
BEGIN:VEVENT
DTSTART;TZID=America/New_York:20260605T180000
DTEND;TZID=America/New_York:20260605T210000
DTSTAMP:20260419T200502
CREATED:20260123T200257Z
LAST-MODIFIED:20260123T200257Z
UID:10000530-1780682400-1780693200@explorelibertyky.com
SUMMARY:Liberty Friday Night Cruisers Car Show
DESCRIPTION:Liberty Friday Night Cruisers comes to downtown Liberty around the Courthouse Square every first Friday of the month April-October! Vendors and cars will be covering the streets from 6-9 PM EST.\n****Car & Vendor Registration is FREE & on-site\, NO online or pre-registration. Do NOT message commenters requesting private messages.
URL:https://explorelibertyky.com/event/liberty-friday-night-cruisers-car-show-9/
LOCATION:Courthouse Square
CATEGORIES:Car show,Outdoor Events
ATTACH;FMTTYPE=image/jpeg:https://explorelibertyky.com/wp-content/uploads/2024/12/Car-Show-2025.jpg
END:VEVENT
BEGIN:VEVENT
DTSTART;TZID=America/New_York:20260611T163000
DTEND;TZID=America/New_York:20260611T190000
DTSTAMP:20260419T200502
CREATED:20260123T201009Z
LAST-MODIFIED:20260123T201009Z
UID:10000540-1781195400-1781204400@explorelibertyky.com
SUMMARY:Casey County Farmers Market
DESCRIPTION:  \nFind a variety of produce and handmade goods! May-September \nEvery week\, Thursdays from 4:30-7 PM ET. \nAddress: 289 Wallace Wilkinson Blvd\, Liberty\, KY 42539
URL:https://explorelibertyky.com/event/casey-county-farmers-market-33/2026-06-11/
LOCATION:289 Wallace Wilkinson Blvd\, Liberty\, KY 42539\, Address: 289 Wallace Wilkinson Blvd\, Liberty\, KY 42539\, Liberty\, 42539\, United States
CATEGORIES:Farming/Produce,Outdoor Events,Shopping
ATTACH;FMTTYPE=image/png:https://explorelibertyky.com/wp-content/uploads/2026/01/475305025_647951164234552_3094898974337944984_n.png
END:VEVENT
BEGIN:VEVENT
DTSTART;VALUE=DATE:20260612
DTEND;VALUE=DATE:20260615
DTSTAMP:20260419T200502
CREATED:20260305T171623Z
LAST-MODIFIED:20260305T171623Z
UID:10000571-1781222400-1781481599@explorelibertyky.com
SUMMARY:Pursuit of the Loot IBRA
DESCRIPTION:Show Name: Pursuit of the LootJune 12-14\, 2026Arena: Central KY AG CenterAddress: 678 S Wallace Wilkinson Blvd\, Liberty\, Kentucky 42539-3344City: LibertyContact: Bryan IshamPhone: 502-235-8598Follow: https://www.facebook.com/groups/KyIBRA/\nba\nFollow: https://www.facebook.com/groups/KyIBRA/\nWebsite: https://www.ibra.us/shows/US-KY/approvedShows.php
URL:https://explorelibertyky.com/event/pursuit-of-the-loot-ibra/
LOCATION:Central KY Ag Expo Center\, 678 Wallace Wilkinson Blvd\, Liberty\, KY\, 42539
CATEGORIES:equestrian
ATTACH;FMTTYPE=image/jpeg:https://explorelibertyky.com/wp-content/uploads/2026/03/644641915_1514399697223917_4304268139105269436_n.jpg
END:VEVENT
BEGIN:VEVENT
DTSTART;TZID=America/New_York:20260612T183000
DTEND;TZID=America/New_York:20260612T213000
DTSTAMP:20260419T200502
CREATED:20260224T134714Z
LAST-MODIFIED:20260224T135318Z
UID:10000565-1781289000-1781299800@explorelibertyky.com
SUMMARY:Summer Music Series- The Dirty Grass Players
DESCRIPTION:The 4th Season of the Summer Music Series is HERE and your Second Fridays just got better. \nWHO: You. Bring a chair. Bring your people. Stay awhile. \nWHAT: FREE Live Music + Local Food & Drinks \nWHEN: Food & Drinks at 6:30 PM ET | Music at 6:45 PM ET \nWHERE: City Green Stage | Downtown Liberty \n2026 Lineup\, Every 2nd Friday\, May–September: \nMay 8- Clay Johnson and the Hard Promises with Alayna Bodner \nJune 12- The Dirty Grass Players with T.H. Wells \nJuly 10- Magnolia Boulevard with Anthony Kennedy \nAugust 14- Cam Clark and His Orchestra with Hunter Daniels \nSeptember 11- Nicholas Jamerson and The Morning Jays with Aidan Palmer \nFive unforgettable nights. \nOne incredible stage. \nAll summer long. \nClick “Going” on each event so you don’t miss updates. \nExploreLibertyKY.com | 606-706-7777
URL:https://explorelibertyky.com/event/summer-music-series-the-dirty-grass-players/
LOCATION:City Green Stage\, 518 Middleburg Street\, Liberty\, KY\, 42539\, United States
CATEGORIES:Music,Outdoor Events
ATTACH;FMTTYPE=image/png:https://explorelibertyky.com/wp-content/uploads/2026/02/SMS-2026-FB-SOCIAL-Poster-3-scaled.png
ORGANIZER;CN="Liberty Tourism &amp%3B Convention Commission":MAILTO:noreply@facebookmail.com
END:VEVENT
BEGIN:VEVENT
DTSTART;TZID=America/New_York:20260618T163000
DTEND;TZID=America/New_York:20260618T190000
DTSTAMP:20260419T200502
CREATED:20260123T201009Z
LAST-MODIFIED:20260123T201009Z
UID:10000541-1781800200-1781809200@explorelibertyky.com
SUMMARY:Casey County Farmers Market
DESCRIPTION:  \nFind a variety of produce and handmade goods! May-September \nEvery week\, Thursdays from 4:30-7 PM ET. \nAddress: 289 Wallace Wilkinson Blvd\, Liberty\, KY 42539
URL:https://explorelibertyky.com/event/casey-county-farmers-market-33/2026-06-18/
LOCATION:289 Wallace Wilkinson Blvd\, Liberty\, KY 42539\, Address: 289 Wallace Wilkinson Blvd\, Liberty\, KY 42539\, Liberty\, 42539\, United States
CATEGORIES:Farming/Produce,Outdoor Events,Shopping
ATTACH;FMTTYPE=image/png:https://explorelibertyky.com/wp-content/uploads/2026/01/475305025_647951164234552_3094898974337944984_n.png
END:VEVENT
BEGIN:VEVENT
DTSTART;TZID=America/New_York:20260620T180000
DTEND;TZID=America/New_York:20260620T213000
DTSTAMP:20260419T200502
CREATED:20260130T161528Z
LAST-MODIFIED:20260130T161528Z
UID:10000560-1781978400-1781991000@explorelibertyky.com
SUMMARY:Spring Fun Show-Spur A
DESCRIPTION:We will be having a series of fun shows this year ontop of our rodeos!So far our dates for fun shows are :April 18th – Liberty kyMay 30th – Liberty kyJune 20th – Liberty KyAnd July 3rd – Liberty ky\nJuly 21st -Liberty ky Casey co Educational Fair\nFollow Spur A Productions on Facebook for more info.859-779-0397leek.ashley@yahoo.com
URL:https://explorelibertyky.com/event/spring-fun-show-spur-a-3/
LOCATION:Central KY Ag Expo Center\, 678 Wallace Wilkinson Blvd\, Liberty\, KY\, 42539
CATEGORIES:Entertainment,equestrian,Sporting Events
ATTACH;FMTTYPE=image/jpeg:https://explorelibertyky.com/wp-content/uploads/2026/01/418576524_391309486742672_1845359937951776817_n.jpg
END:VEVENT
BEGIN:VEVENT
DTSTART;TZID=America/New_York:20260625T163000
DTEND;TZID=America/New_York:20260625T190000
DTSTAMP:20260419T200502
CREATED:20260123T201009Z
LAST-MODIFIED:20260123T201009Z
UID:10000542-1782405000-1782414000@explorelibertyky.com
SUMMARY:Casey County Farmers Market
DESCRIPTION:  \nFind a variety of produce and handmade goods! May-September \nEvery week\, Thursdays from 4:30-7 PM ET. \nAddress: 289 Wallace Wilkinson Blvd\, Liberty\, KY 42539
URL:https://explorelibertyky.com/event/casey-county-farmers-market-33/2026-06-25/
LOCATION:289 Wallace Wilkinson Blvd\, Liberty\, KY 42539\, Address: 289 Wallace Wilkinson Blvd\, Liberty\, KY 42539\, Liberty\, 42539\, United States
CATEGORIES:Farming/Produce,Outdoor Events,Shopping
ATTACH;FMTTYPE=image/png:https://explorelibertyky.com/wp-content/uploads/2026/01/475305025_647951164234552_3094898974337944984_n.png
END:VEVENT
BEGIN:VEVENT
DTSTART;VALUE=DATE:20260626
DTEND;VALUE=DATE:20260628
DTSTAMP:20260419T200502
CREATED:20260305T174340Z
LAST-MODIFIED:20260305T175556Z
UID:10000573-1782432000-1782604799@explorelibertyky.com
SUMMARY:KY ROSE REGIONAL CHAMPIONSHIP
DESCRIPTION:KY ROSE REGIONAL CHAMPIONSHIPJune 26-27\, 2026Central Kentucky Ag Center\,678 S Wallace Wilkinson\, Liberty\, KYShow Manager:Shannon Gibbs shgibbs29@gmail.com\n\nNational Walking Horse AssociationP.O. Box 70106 Milwaukee\, WI 53207\nPhone: (859) 252-6942E-Mail: office@nwha.comhttps://nwha.com/calendar
URL:https://explorelibertyky.com/event/ky-rose-regional-championship-2/
LOCATION:Central KY Ag Expo Center\, 678 Wallace Wilkinson Blvd\, Liberty\, KY\, 42539
CATEGORIES:equestrian
ATTACH;FMTTYPE=image/jpeg:https://explorelibertyky.com/wp-content/uploads/2026/03/639765304_1511054150891805_7446342244108207259_n.jpg
END:VEVENT
END:VCALENDAR