BEGIN:VCALENDAR
VERSION:2.0
PRODID:-//Liberty, Kentucky - ECPv6.15.20//NONSGML v1.0//EN
CALSCALE:GREGORIAN
METHOD:PUBLISH
X-ORIGINAL-URL:https://explorelibertyky.com
X-WR-CALDESC:Events for Liberty, Kentucky
REFRESH-INTERVAL;VALUE=DURATION:PT1H
X-Robots-Tag:noindex
X-PUBLISHED-TTL:PT1H
BEGIN:VTIMEZONE
TZID:America/New_York
BEGIN:DAYLIGHT
TZOFFSETFROM:-0500
TZOFFSETTO:-0400
TZNAME:EDT
DTSTART:20250309T070000
END:DAYLIGHT
BEGIN:STANDARD
TZOFFSETFROM:-0400
TZOFFSETTO:-0500
TZNAME:EST
DTSTART:20251102T060000
END:STANDARD
BEGIN:DAYLIGHT
TZOFFSETFROM:-0500
TZOFFSETTO:-0400
TZNAME:EDT
DTSTART:20260308T070000
END:DAYLIGHT
BEGIN:STANDARD
TZOFFSETFROM:-0400
TZOFFSETTO:-0500
TZNAME:EST
DTSTART:20261101T060000
END:STANDARD
BEGIN:DAYLIGHT
TZOFFSETFROM:-0500
TZOFFSETTO:-0400
TZNAME:EDT
DTSTART:20270314T070000
END:DAYLIGHT
BEGIN:STANDARD
TZOFFSETFROM:-0400
TZOFFSETTO:-0500
TZNAME:EST
DTSTART:20271107T060000
END:STANDARD
END:VTIMEZONE
BEGIN:VEVENT
DTSTART;TZID=America/New_York:20260418T090000
DTEND;TZID=America/New_York:20260418T170000
DTSTAMP:20260419T142704
CREATED:20260216T180854Z
LAST-MODIFIED:20260216T180854Z
UID:10000563-1776502800-1776531600@explorelibertyky.com
SUMMARY:Casey County Community Spring Consignment
DESCRIPTION: Spring Casey County Consignment Auction  Saturday\, April 18th @ 9:00 AMCorner of US 127 & KY 501 Liberty\, KentuckyMark your calendars and plan to spend the day with us for one of the biggest spring events of the season! Selling:TackBuilding MaterialsEquipment & MachineryShop & Farm SuppliesFencing • Gates • Post Furniture • Household • KitchenwaresAntiques • Vintage • PrimitivesLawn & GardenQuiltsMiscellaneous Items Livestock:Sheep • Goats • Cattle • Pigs • Horses Small Animals:Chickens • Rabbits • Peacocks • Guineas • Turkeys • Geese • Ducks & more! Amish baked goods Homemade ice cream Full concession stand Vendor spots available Consignors: For flyer advertising\, please contact us by March 13th to be included.We’ll begin posting items with photos soon — stay tuned! Message us on Facebook 740-510-0877 (call or text) i70auctions@gmail.comBring a friend\, come hungry\, and spend the day with us — there’s something for everyone!
URL:https://explorelibertyky.com/event/casey-county-community-spring-consignment-2/
LOCATION:127/501 Amish Mennonite\, 11716 S Ky 501\, Liberty\, 42539\, United States
CATEGORIES:Amish/Mennonite Community,Farming/Produce,Outdoor Events
ATTACH;FMTTYPE=image/png:https://explorelibertyky.com/wp-content/uploads/2026/02/Copy-of-Blue-Green-Simple-Music-Festival-Facebook-Event-Cover-Photo-2-scaled.png
END:VEVENT
END:VCALENDAR