BEGIN:VCALENDAR
VERSION:2.0
PRODID:-//Liberty, Kentucky - ECPv6.15.20//NONSGML v1.0//EN
CALSCALE:GREGORIAN
METHOD:PUBLISH
X-ORIGINAL-URL:https://explorelibertyky.com
X-WR-CALDESC:Events for Liberty, Kentucky
REFRESH-INTERVAL;VALUE=DURATION:PT1H
X-Robots-Tag:noindex
X-PUBLISHED-TTL:PT1H
BEGIN:VTIMEZONE
TZID:America/New_York
BEGIN:DAYLIGHT
TZOFFSETFROM:-0500
TZOFFSETTO:-0400
TZNAME:EDT
DTSTART:20200308T070000
END:DAYLIGHT
BEGIN:STANDARD
TZOFFSETFROM:-0400
TZOFFSETTO:-0500
TZNAME:EST
DTSTART:20201101T060000
END:STANDARD
BEGIN:DAYLIGHT
TZOFFSETFROM:-0500
TZOFFSETTO:-0400
TZNAME:EDT
DTSTART:20210314T070000
END:DAYLIGHT
BEGIN:STANDARD
TZOFFSETFROM:-0400
TZOFFSETTO:-0500
TZNAME:EST
DTSTART:20211107T060000
END:STANDARD
BEGIN:DAYLIGHT
TZOFFSETFROM:-0500
TZOFFSETTO:-0400
TZNAME:EDT
DTSTART:20220313T070000
END:DAYLIGHT
BEGIN:STANDARD
TZOFFSETFROM:-0400
TZOFFSETTO:-0500
TZNAME:EST
DTSTART:20221106T060000
END:STANDARD
END:VTIMEZONE
BEGIN:VEVENT
DTSTART;TZID=America/New_York:20211008T160000
DTEND;TZID=America/New_York:20211009T140000
DTSTAMP:20260419T131128
CREATED:20210805T123157Z
LAST-MODIFIED:20210805T123157Z
UID:10000214-1633708800-1633788000@explorelibertyky.com
SUMMARY:Galilean Home Quilt & Craft Auction
DESCRIPTION:SCHEDULE OF EVENTS:\nFriday\, October 8 Spaghetti supper ‐ 4:00 p.m. with CRAFT Auction to follow\nSaturday\, October 9 Pancake Breakfast • 7:00 a.m. Quilt Auction begins • 10:00 a.m.
URL:https://explorelibertyky.com/event/galilean-home-quilt-craft-auction/
LOCATION:Galilean Children’s Home\, 712 S Fork Church Rd\, Liberty\, Kentucky\, 42539
CATEGORIES:Amish/Mennonite Community,Arts and Crafts
ATTACH;FMTTYPE=image/jpeg:https://explorelibertyky.com/wp-content/uploads/2021/08/225272702_4629112517123299_3994419843627319029_n.jpeg
END:VEVENT
END:VCALENDAR