BEGIN:VCALENDAR
VERSION:2.0
PRODID:-//Liberty, Kentucky - ECPv6.15.20//NONSGML v1.0//EN
CALSCALE:GREGORIAN
METHOD:PUBLISH
X-WR-CALNAME:Liberty, Kentucky
X-ORIGINAL-URL:https://explorelibertyky.com
X-WR-CALDESC:Events for Liberty, Kentucky
REFRESH-INTERVAL;VALUE=DURATION:PT1H
X-Robots-Tag:noindex
X-PUBLISHED-TTL:PT1H
BEGIN:VTIMEZONE
TZID:America/New_York
BEGIN:DAYLIGHT
TZOFFSETFROM:-0500
TZOFFSETTO:-0400
TZNAME:EDT
DTSTART:20240310T070000
END:DAYLIGHT
BEGIN:STANDARD
TZOFFSETFROM:-0400
TZOFFSETTO:-0500
TZNAME:EST
DTSTART:20241103T060000
END:STANDARD
BEGIN:DAYLIGHT
TZOFFSETFROM:-0500
TZOFFSETTO:-0400
TZNAME:EDT
DTSTART:20250309T070000
END:DAYLIGHT
BEGIN:STANDARD
TZOFFSETFROM:-0400
TZOFFSETTO:-0500
TZNAME:EST
DTSTART:20251102T060000
END:STANDARD
BEGIN:DAYLIGHT
TZOFFSETFROM:-0500
TZOFFSETTO:-0400
TZNAME:EDT
DTSTART:20260308T070000
END:DAYLIGHT
BEGIN:STANDARD
TZOFFSETFROM:-0400
TZOFFSETTO:-0500
TZNAME:EST
DTSTART:20261101T060000
END:STANDARD
END:VTIMEZONE
BEGIN:VEVENT
DTSTART;VALUE=DATE:20250925
DTEND;VALUE=DATE:20250928
DTSTAMP:20260419T131150
CREATED:20241218T193007Z
LAST-MODIFIED:20241218T193007Z
UID:10000488-1758758400-1759017599@explorelibertyky.com
SUMMARY:51st Casey County Apple Festival
DESCRIPTION:The 2025 Casey County Apple Festival will mark 51 years of downtown fun and tradition!\nThe Casey County Apple Festival will be held from September 25 to 27\, 2025. It will feature live music\, concerts\, pageants\, contests\, a parade\, carnival\, flea market booths\, arts and crafts vendors\, apples and apple creations\, food vendors\, and more.Thursday 3pm-11pm;Friday 8am-midnight;Saturday 8am-midnightFull schedule TBA
URL:https://explorelibertyky.com/event/51st-casey-county-apple-festival/
LOCATION:Courthouse Square
CATEGORIES:Arts and Crafts,Entertainment,Fair/Festival,Music,Outdoor Events,Pageants,Shopping
ATTACH;FMTTYPE=image/jpeg:https://explorelibertyky.com/wp-content/uploads/2024/12/CCAF-25.jpg
END:VEVENT
END:VCALENDAR