BEGIN:VCALENDAR
VERSION:2.0
PRODID:-//Liberty, Kentucky - ECPv6.15.20//NONSGML v1.0//EN
CALSCALE:GREGORIAN
METHOD:PUBLISH
X-WR-CALNAME:Liberty, Kentucky
X-ORIGINAL-URL:https://explorelibertyky.com
X-WR-CALDESC:Events for Liberty, Kentucky
REFRESH-INTERVAL;VALUE=DURATION:PT1H
X-Robots-Tag:noindex
X-PUBLISHED-TTL:PT1H
BEGIN:VTIMEZONE
TZID:America/New_York
BEGIN:DAYLIGHT
TZOFFSETFROM:-0500
TZOFFSETTO:-0400
TZNAME:EDT
DTSTART:20190310T070000
END:DAYLIGHT
BEGIN:STANDARD
TZOFFSETFROM:-0400
TZOFFSETTO:-0500
TZNAME:EST
DTSTART:20191103T060000
END:STANDARD
BEGIN:DAYLIGHT
TZOFFSETFROM:-0500
TZOFFSETTO:-0400
TZNAME:EDT
DTSTART:20200308T070000
END:DAYLIGHT
BEGIN:STANDARD
TZOFFSETFROM:-0400
TZOFFSETTO:-0500
TZNAME:EST
DTSTART:20201101T060000
END:STANDARD
BEGIN:DAYLIGHT
TZOFFSETFROM:-0500
TZOFFSETTO:-0400
TZNAME:EDT
DTSTART:20210314T070000
END:DAYLIGHT
BEGIN:STANDARD
TZOFFSETFROM:-0400
TZOFFSETTO:-0500
TZNAME:EST
DTSTART:20211107T060000
END:STANDARD
BEGIN:DAYLIGHT
TZOFFSETFROM:-0500
TZOFFSETTO:-0400
TZNAME:EDT
DTSTART:20220313T070000
END:DAYLIGHT
BEGIN:STANDARD
TZOFFSETFROM:-0400
TZOFFSETTO:-0500
TZNAME:EST
DTSTART:20221106T060000
END:STANDARD
END:VTIMEZONE
BEGIN:VEVENT
DTSTART;TZID=America/New_York:20201127T183000
DTEND;TZID=America/New_York:20210109T183000
DTSTAMP:20260419T120927
CREATED:20201120T134031Z
LAST-MODIFIED:20201120T134031Z
UID:10000118-1606501800-1610217000@explorelibertyky.com
SUMMARY:Liberty Holiday Lights
DESCRIPTION:We all need a little light this holiday season! Visit downtown Liberty and enjoy an evening drive through over 100 sculptures located around our business district. Traveling N or S on Hwy 127 to Liberty\, KY\, then turn onto Middleburg Street or Hustonville Street to complete the loop.\nThis Event is made possible by:\n-Liberty (Island) Holiday Lights\n-Liberty/Casey Chamber of Commerce\n-Liberty Tourism & Convention Commission\n-Community Volunteers\nLights will be set up from November 27th-the beginning of January 2021.
URL:https://explorelibertyky.com/event/liberty-holiday-lights/
ATTACH;FMTTYPE=image/png:https://explorelibertyky.com/wp-content/uploads/2020/11/Copy-of-Copy-of-Copy-of-Blue-Green-Simple-Music-Festival-Facebook-Event-Cover-Photo.png
ORGANIZER;CN="Liberty Tourism & Convention Commission":MAILTO:contact@explorelibertyky.com
END:VEVENT
END:VCALENDAR