BEGIN:VCALENDAR
VERSION:2.0
PRODID:-//Liberty, Kentucky - ECPv6.15.20//NONSGML v1.0//EN
CALSCALE:GREGORIAN
METHOD:PUBLISH
X-ORIGINAL-URL:https://explorelibertyky.com
X-WR-CALDESC:Events for Liberty, Kentucky
REFRESH-INTERVAL;VALUE=DURATION:PT1H
X-Robots-Tag:noindex
X-PUBLISHED-TTL:PT1H
BEGIN:VTIMEZONE
TZID:America/New_York
BEGIN:DAYLIGHT
TZOFFSETFROM:-0500
TZOFFSETTO:-0400
TZNAME:EDT
DTSTART:20210314T070000
END:DAYLIGHT
BEGIN:STANDARD
TZOFFSETFROM:-0400
TZOFFSETTO:-0500
TZNAME:EST
DTSTART:20211107T060000
END:STANDARD
BEGIN:DAYLIGHT
TZOFFSETFROM:-0500
TZOFFSETTO:-0400
TZNAME:EDT
DTSTART:20220313T070000
END:DAYLIGHT
BEGIN:STANDARD
TZOFFSETFROM:-0400
TZOFFSETTO:-0500
TZNAME:EST
DTSTART:20221106T060000
END:STANDARD
BEGIN:DAYLIGHT
TZOFFSETFROM:-0500
TZOFFSETTO:-0400
TZNAME:EDT
DTSTART:20230312T070000
END:DAYLIGHT
BEGIN:STANDARD
TZOFFSETFROM:-0400
TZOFFSETTO:-0500
TZNAME:EST
DTSTART:20231105T060000
END:STANDARD
END:VTIMEZONE
BEGIN:VEVENT
DTSTART;TZID=America/New_York:20220423T080000
DTEND;TZID=America/New_York:20220423T170000
DTSTAMP:20260419T103339
CREATED:20220401T142110Z
LAST-MODIFIED:20220401T142403Z
UID:10000111-1650700800-1650733200@explorelibertyky.com
SUMMARY:Liberty Community Cleanup
DESCRIPTION:Join our Liberty Community Cleanup\, sponsored by Liberty Tourism\, Pride\, & the City of Liberty!\nWho: *Adults over 18.\n*Minors 14-18 with a parent/guardian signature- minor waiver forms can be filled out in person at check-in\, picked up at City Hall drive-thru\, or filled out online. https://forms.gle/fD6R12QMsaA6wyYY8\n*Minors under 13- with a parent/guarding signature AND must be accompanied by an adult/guardian. Please use good judgment as this event will be on the roadways. Location accommodations will be attempted to allow added safety.\nWhen: Saturday\, April 23rd\, Check-in between 8:00-9:00 AM. You can participate as long as you like after receiving supplies. Usually finished by Noon.\nRain Date: April 30th: Rain decision\, announced in the Facebook event- Call 606-706-7777 to check the status if unsure.\nWhere: Meet at City Hall to check in. Once you have your supplies\, pick up trash in assigned areas including downtown\, 127 bypass\, and neighborhood areas in Liberty City Limits.\nProvided: Bags\, gloves\, vests\, water\, & refreshments.\nNotes: Please wear sunscreen\, closed-toed shoes\, & bright colors! A small backpack or fanny pack is super useful!\nIf you have earned your Liberty/Casey County Community Volunteer Shirt\, WEAR it! If you haven’t yet\, ask how you can earn it ASAP!
URL:https://explorelibertyky.com/event/liberty-community-cleanup-2/
LOCATION:City Hall\, 518 Middleburg St\, Liberty\, 42539\, United States
CATEGORIES:Volunteer
ATTACH;FMTTYPE=image/jpeg:https://explorelibertyky.com/wp-content/uploads/2022/04/277661724_2991792504465775_6288283376361972250_n.jpeg
ORGANIZER;CN="Liberty Tourism & Convention Commission":MAILTO:contact@explorelibertyky.com
END:VEVENT
END:VCALENDAR