BEGIN:VCALENDAR
VERSION:2.0
PRODID:-//Liberty, Kentucky - ECPv6.15.20//NONSGML v1.0//EN
CALSCALE:GREGORIAN
METHOD:PUBLISH
X-ORIGINAL-URL:https://explorelibertyky.com
X-WR-CALDESC:Events for Liberty, Kentucky
REFRESH-INTERVAL;VALUE=DURATION:PT1H
X-Robots-Tag:noindex
X-PUBLISHED-TTL:PT1H
BEGIN:VTIMEZONE
TZID:America/New_York
BEGIN:DAYLIGHT
TZOFFSETFROM:-0500
TZOFFSETTO:-0400
TZNAME:EDT
DTSTART:20200308T070000
END:DAYLIGHT
BEGIN:STANDARD
TZOFFSETFROM:-0400
TZOFFSETTO:-0500
TZNAME:EST
DTSTART:20201101T060000
END:STANDARD
BEGIN:DAYLIGHT
TZOFFSETFROM:-0500
TZOFFSETTO:-0400
TZNAME:EDT
DTSTART:20210314T070000
END:DAYLIGHT
BEGIN:STANDARD
TZOFFSETFROM:-0400
TZOFFSETTO:-0500
TZNAME:EST
DTSTART:20211107T060000
END:STANDARD
BEGIN:DAYLIGHT
TZOFFSETFROM:-0500
TZOFFSETTO:-0400
TZNAME:EDT
DTSTART:20220313T070000
END:DAYLIGHT
BEGIN:STANDARD
TZOFFSETFROM:-0400
TZOFFSETTO:-0500
TZNAME:EST
DTSTART:20221106T060000
END:STANDARD
BEGIN:DAYLIGHT
TZOFFSETFROM:-0500
TZOFFSETTO:-0400
TZNAME:EDT
DTSTART:20230312T070000
END:DAYLIGHT
BEGIN:STANDARD
TZOFFSETFROM:-0400
TZOFFSETTO:-0500
TZNAME:EST
DTSTART:20231105T060000
END:STANDARD
END:VTIMEZONE
BEGIN:VEVENT
DTSTART;TZID=America/New_York:20210918T110000
DTEND;TZID=America/New_York:20210919T180000
DTSTAMP:20260419T140011
CREATED:20210803T135520Z
LAST-MODIFIED:20210803T143701Z
UID:10000212-1631962800-1632074400@explorelibertyky.com
SUMMARY:Casey County Apple Festival Pageants & KY's Perfect Model Search
DESCRIPTION:Casey County Apple Festival Pageant & Kentucky’s Perfect Model Search  \nSATURDAY\, September 18th \nCasey County Apple Festival Pageants: \n11:00 AM-2 PM Registration for Pageants– Casey County High School gym: 1841 E State Hwy 70\, Liberty\, KY 42539 \n$25 Entry Fee  \nBabies: 0-6 months\, 7-12 months\, 13-18 months\, 19-24 months; Prince and Princess: 2-3 years\, 4-5 years; Little Miss Preteen: 6 years; Little Mister & Miss: 5-6 years (Paired Contestants and Requires a $40 entry fee) Contact Deva Hair 606-787-5355. \n———Entry form: https://caseycountyapplefestival.org/2021-childrens-pageant \nKentucky’s Perfect Pageant and Model Search \n11:00 AM-2 PM Kentucky’s Perfect Pageant and Model Search Registration \nLittle Miss Kentucky’s Perfect (ages 4-7); Little Miss Casey County(ages 4-7); Kentucky’s Perfect PreTeen (ages 8-12); PreTeen Casey County (ages 8-12); Kentucky’s Perfect Junior Teen (ages 13-15); Junior Teen Casey County (ages 13-15); Kentucky’s Perfect Teen (ages 16-19); Casey County Teen (ages 16-19); Kentucky’s Perfect Miss (ages 20-29); Miss Casey County (ages 20-29); Kentucky’s Perfect Woman (ages 30-49); Casey County Woman\, (age 30-49); Kentucky’s Perfect Classic Woman(age 50 & older); Casey County Classic Woman (age 50 & older); Mr. Kentucky’s Perfect(age 16 & up); Mr. Casey County(age 16 & up). \n\nMUST PRESENT BIRTH CERTIFICATE OR STATE-ISSUED ID.\n\n\nContact David Richards 270-250-2058 or Kristy Anderson 859-797-4334.\n\nEntry FEE: Casey County Only\, $40   KY’s Perfect $175 (if paid by Sept 1st)  \n3:00 PM Kentucky’s Perfect Pageant and Model Search Interviews \nCasey County High School \n6:00 PM Casey County Gym Doors Open to Pageant Audience- Admission $8\, 5 and under free \n7:00 PM On-stage Kentucky’s Perfect Pageant and Model Search Competition \nSUNDAY\, September 19th \n11:00 AM Casey County Gym Doors Open to Pageant Audience- Admission $3\, 5 and under free \n1:00 PM Pageant Competition: Apple Baby\, Prince and Princess\, Little Miss Pre Teen
URL:https://explorelibertyky.com/event/apple-festival-pageants-kys-perfect-model-search/
CATEGORIES:Entertainment
ATTACH;FMTTYPE=image/jpeg:https://explorelibertyky.com/wp-content/uploads/2021/08/rsw_1023cg_true.jpeg
END:VEVENT
BEGIN:VEVENT
DTSTART;TZID=America/New_York:20220514T080000
DTEND;TZID=America/New_York:20220514T140000
DTSTAMP:20260419T140011
CREATED:20220127T184140Z
LAST-MODIFIED:20220127T184140Z
UID:10000237-1652515200-1652536800@explorelibertyky.com
SUMMARY:The Amazing Race Liberty
DESCRIPTION:The 2022 Amazing Race Liberty\, KY\nDo you love puzzles and physical challenges? Grab your brainy best friend\, your super-strong better half\, or your wiz of a kid to compete in the Amazing Race in Liberty\, KY!\nMay 14\, 2022\nCost: $40 per team *proceeds will go toward 4-H scholarships and 4-H programs.\nCheck-In: 8:00 Am EST\n1st Heat of Teams: 8:30 Am EST\, additional heats to follow\nLocation: Liberty City Hall\nParking: Public Parking in front of Fire House\nFor more information contact:\nMeagan Klee at 606-787-7384 or\nmeagan.klee@uky.edu\nRegistration forms are available at the Casey County Extension Office.\n1517 Wallace Wilkinson Blvd\, Liberty\, KY 42539\n*See flyer for more details\n\nAmazing Race Liberty\, KY
URL:https://explorelibertyky.com/event/the-amazing-race-liberty/
LOCATION:City Hall\, 518 Middleburg St\, Liberty\, 42539\, United States
ATTACH;FMTTYPE=image/jpeg:https://explorelibertyky.com/wp-content/uploads/2022/01/2022-Amazing-Race-Liberty-Flyer.jpg
END:VEVENT
END:VCALENDAR