BEGIN:VCALENDAR
VERSION:2.0
PRODID:-//Liberty, Kentucky - ECPv6.15.20//NONSGML v1.0//EN
CALSCALE:GREGORIAN
METHOD:PUBLISH
X-WR-CALNAME:Liberty, Kentucky
X-ORIGINAL-URL:https://explorelibertyky.com
X-WR-CALDESC:Events for Liberty, Kentucky
REFRESH-INTERVAL;VALUE=DURATION:PT1H
X-Robots-Tag:noindex
X-PUBLISHED-TTL:PT1H
BEGIN:VTIMEZONE
TZID:America/New_York
BEGIN:DAYLIGHT
TZOFFSETFROM:-0500
TZOFFSETTO:-0400
TZNAME:EDT
DTSTART:20190310T070000
END:DAYLIGHT
BEGIN:STANDARD
TZOFFSETFROM:-0400
TZOFFSETTO:-0500
TZNAME:EST
DTSTART:20191103T060000
END:STANDARD
BEGIN:DAYLIGHT
TZOFFSETFROM:-0500
TZOFFSETTO:-0400
TZNAME:EDT
DTSTART:20200308T070000
END:DAYLIGHT
BEGIN:STANDARD
TZOFFSETFROM:-0400
TZOFFSETTO:-0500
TZNAME:EST
DTSTART:20201101T060000
END:STANDARD
BEGIN:DAYLIGHT
TZOFFSETFROM:-0500
TZOFFSETTO:-0400
TZNAME:EDT
DTSTART:20210314T070000
END:DAYLIGHT
BEGIN:STANDARD
TZOFFSETFROM:-0400
TZOFFSETTO:-0500
TZNAME:EST
DTSTART:20211107T060000
END:STANDARD
BEGIN:DAYLIGHT
TZOFFSETFROM:-0500
TZOFFSETTO:-0400
TZNAME:EDT
DTSTART:20220313T070000
END:DAYLIGHT
BEGIN:STANDARD
TZOFFSETFROM:-0400
TZOFFSETTO:-0500
TZNAME:EST
DTSTART:20221106T060000
END:STANDARD
BEGIN:DAYLIGHT
TZOFFSETFROM:-0500
TZOFFSETTO:-0400
TZNAME:EDT
DTSTART:20230312T070000
END:DAYLIGHT
BEGIN:STANDARD
TZOFFSETFROM:-0400
TZOFFSETTO:-0500
TZNAME:EST
DTSTART:20231105T060000
END:STANDARD
END:VTIMEZONE
BEGIN:VEVENT
DTSTART;TZID=America/New_York:20200513T160000
DTEND;TZID=America/New_York:20200513T170000
DTSTAMP:20260419T135836
CREATED:20200511T174525Z
LAST-MODIFIED:20200511T174614Z
UID:10000060-1589385600-1589389200@explorelibertyky.com
SUMMARY:ZOOM-Trail Town Task Force
DESCRIPTION:Our Trail Town Task Force has divided into committees. Our Trail Route Advisory Committee is making headway. We need every kind of volunteer to make this project successful! Do you hike? Kayak? Are you good at community outreach? Organizing? Can you help clean up on a volunteer day? Are you good at taking photos? Can you take notes at a meeting? Is social media your thing? \nNo matter your strength\, we have a spot for you. This process will be ongoing and it’s never too late to jump in and get involved! Feel free to contact the leaders listed above or contact Liberty Tourism & Convention Commission directly for more information. \nFollow Liberty Tourism & Convention Commission on Facebook to view the LIVE meeting. \nAgenda Link: https://docs.google.com/document/d/1D6iGUr80Tae7kTyp1HtzspEOWz2NhA5OI2l89MPqOHg/edit?usp=sharing\n———-\nTopic: Trail Town Task Force\nTime: May 13\, 2020\, 04:00 PM Eastern Time (US and Canada) \nJoin Zoom Meeting\nhttps://us02web.zoom.us/j/81594215697?pwd=VzlNaEJjYjY0MC95b0s3K3dpK0VOQT09 \nMeeting ID: 815 9421 5697\nPassword: 036341\nOne tap mobile\n+13017158592\,\,81594215697#\,\,1#\,036341# US (Germantown)\n+13126266799\,\,81594215697#\,\,1#\,036341# US (Chicago) \nDial by your location\n+1 301 715 8592 US (Germantown)\n+1 312 626 6799 US (Chicago)\n+1 646 558 8656 US (New York)\n+1 253 215 8782 US (Tacoma)\n+1 346 248 7799 US (Houston)\n+1 669 900 9128 US (San Jose)\nMeeting ID: 815 9421 5697\nPassword: 036341\nFind your local number: https://us02web.zoom.us/u/kcvJlUgGcr
URL:https://explorelibertyky.com/event/1408/
LOCATION:KY
CATEGORIES:Volunteer
ATTACH;FMTTYPE=image/jpeg:https://explorelibertyky.com/wp-content/uploads/2020/05/95334297_2469553350023029_9179337214637637632_o.jpg
END:VEVENT
BEGIN:VEVENT
DTSTART;TZID=America/New_York:20220528T080000
DTEND;TZID=America/New_York:20220528T130000
DTSTAMP:20260419T135836
CREATED:20220401T142931Z
LAST-MODIFIED:20220401T142931Z
UID:10000112-1653724800-1653742800@explorelibertyky.com
SUMMARY:Liberty/Casey County Trail Town Trial
DESCRIPTION:How would you like to be a PART of making Liberty/Casey County an official TRAIL TOWN?!?!?!\nPre-Registration: https://forms.gle/jNspwCVGeUwR6jNt8\nPlease register to ensure we have a special gift for you and your group! Registration will close at 10PM on Friday\, May 27th.\nRegistration is NOT required\, but will ensure you receive a registration gift!\nWho: This event is open to anyone! We welcome anyone willing to give us feedback! All ages and all abilities.\nWhen: Saturday\, May 28th- 8AM-1PM\, these are the hours we will provide maps\, pre-registration gifts\, and survey gifts. You are more than encouraged to spend the day and stay for our Live in Liberty Concert in town taking place from 11 AM-11 PM.\nWhere: Central KY Ag Expo Picnic Shelter is our meetup spot for you to receive registration info\, gifts\, maps\, and more!\nCome and experience ANY one (or more) of our various trails\, let us know about your experience\, how we can improve\, and receive a fun prize for visiting Liberty! That’s it!\nOur Liberty/Casey County Trail Town Task Force has been working to become a Kentucky Certified Trail Town for over 2 years and this is one vital part of our adventure.\nTrail Options to enjoy in Casey County:\nDown The Green Paddle Trail (Green River)\nLake Liberty Trail & Lake Liberty Boating\nCentral Ky Ag/Expo Center Loop Trail\nLiberty Island Loop Trail\nShut In Road Trail\nThese trails provide a variety of options including:\nPaved/Unpaved\nShort/Long\nKayaking (limited rentals available)\nCanoe and paddleboard (BYOB)\nBiking\nHandicap-accessible\nBenches and Picnic Pavilion are available for those who want to visit and enjoy the rest of your group adventures\nFor questions\, please call or text: 606-706-7777\nSponsored by the Liberty Tourism & Convention Commission.
URL:https://explorelibertyky.com/event/liberty-casey-county-trail-town-trial/
LOCATION:Central KY Ag Expo Center\, 678 Wallace Wilkinson Blvd\, Liberty\, KY\, 42539
CATEGORIES:Entertainment,Sporting Events
ATTACH;FMTTYPE=image/jpeg:https://explorelibertyky.com/wp-content/uploads/2022/04/275758317_2512792172191029_2414643921640815133_n.jpeg
ORGANIZER;CN="Liberty Tourism & Convention Commission":MAILTO:contact@explorelibertyky.com
END:VEVENT
END:VCALENDAR