BEGIN:VCALENDAR
VERSION:2.0
PRODID:-//Liberty, Kentucky - ECPv6.15.20//NONSGML v1.0//EN
CALSCALE:GREGORIAN
METHOD:PUBLISH
X-ORIGINAL-URL:https://explorelibertyky.com
X-WR-CALDESC:Events for Liberty, Kentucky
REFRESH-INTERVAL;VALUE=DURATION:PT1H
X-Robots-Tag:noindex
X-PUBLISHED-TTL:PT1H
BEGIN:VTIMEZONE
TZID:America/New_York
BEGIN:DAYLIGHT
TZOFFSETFROM:-0500
TZOFFSETTO:-0400
TZNAME:EDT
DTSTART:20200308T070000
END:DAYLIGHT
BEGIN:STANDARD
TZOFFSETFROM:-0400
TZOFFSETTO:-0500
TZNAME:EST
DTSTART:20201101T060000
END:STANDARD
BEGIN:DAYLIGHT
TZOFFSETFROM:-0500
TZOFFSETTO:-0400
TZNAME:EDT
DTSTART:20210314T070000
END:DAYLIGHT
BEGIN:STANDARD
TZOFFSETFROM:-0400
TZOFFSETTO:-0500
TZNAME:EST
DTSTART:20211107T060000
END:STANDARD
BEGIN:DAYLIGHT
TZOFFSETFROM:-0500
TZOFFSETTO:-0400
TZNAME:EDT
DTSTART:20220313T070000
END:DAYLIGHT
BEGIN:STANDARD
TZOFFSETFROM:-0400
TZOFFSETTO:-0500
TZNAME:EST
DTSTART:20221106T060000
END:STANDARD
END:VTIMEZONE
BEGIN:VEVENT
DTSTART;TZID=America/New_York:20210819T080000
DTEND;TZID=America/New_York:20210829T200000
DTSTAMP:20260419T085944
CREATED:20210719T123413Z
LAST-MODIFIED:20210719T123413Z
UID:10000170-1629360000-1630267200@explorelibertyky.com
SUMMARY:Ky State Fair
DESCRIPTION:Come and see our booth at the Pride of the Counties at the Kentucky State Fair! We will have lots of great travel information\, freebies\, and drawings. We cant wait to see you! \nSouth Wing B \nEvent Date: \nAugust 19-29\, 2021
URL:https://explorelibertyky.com/event/ky-state-fair/
CATEGORIES:Arts and Crafts,Volunteer
ATTACH;FMTTYPE=image/png:https://explorelibertyky.com/wp-content/uploads/2021/07/Screen-Shot-2021-07-19-at-8.06.57-AM.png
END:VEVENT
END:VCALENDAR