BEGIN:VCALENDAR
VERSION:2.0
PRODID:-//Liberty, Kentucky - ECPv6.15.20//NONSGML v1.0//EN
CALSCALE:GREGORIAN
METHOD:PUBLISH
X-ORIGINAL-URL:https://explorelibertyky.com
X-WR-CALDESC:Events for Liberty, Kentucky
REFRESH-INTERVAL;VALUE=DURATION:PT1H
X-Robots-Tag:noindex
X-PUBLISHED-TTL:PT1H
BEGIN:VTIMEZONE
TZID:America/New_York
BEGIN:DAYLIGHT
TZOFFSETFROM:-0500
TZOFFSETTO:-0400
TZNAME:EDT
DTSTART:20250309T070000
END:DAYLIGHT
BEGIN:STANDARD
TZOFFSETFROM:-0400
TZOFFSETTO:-0500
TZNAME:EST
DTSTART:20251102T060000
END:STANDARD
BEGIN:DAYLIGHT
TZOFFSETFROM:-0500
TZOFFSETTO:-0400
TZNAME:EDT
DTSTART:20260308T070000
END:DAYLIGHT
BEGIN:STANDARD
TZOFFSETFROM:-0400
TZOFFSETTO:-0500
TZNAME:EST
DTSTART:20261101T060000
END:STANDARD
BEGIN:DAYLIGHT
TZOFFSETFROM:-0500
TZOFFSETTO:-0400
TZNAME:EDT
DTSTART:20270314T070000
END:DAYLIGHT
BEGIN:STANDARD
TZOFFSETFROM:-0400
TZOFFSETTO:-0500
TZNAME:EST
DTSTART:20271107T060000
END:STANDARD
END:VTIMEZONE
BEGIN:VEVENT
DTSTART;VALUE=DATE:20260806
DTEND;VALUE=DATE:20260810
DTSTAMP:20260424T120757
CREATED:20260130T141716Z
LAST-MODIFIED:20260130T151947Z
UID:10000557-1785974400-1786319999@explorelibertyky.com
SUMMARY:127 Yard Sale - Central KY Ag Expo
DESCRIPTION:https://www.127yardsale.com/\n\nMAJOR VENDOR STOP ALERT for the 127 Yard Sale – The World’s Longest Yard Sale! The Central Kentucky Ag/Expo Center is a hotspot with an enormous amount of vendors setting up!
URL:https://explorelibertyky.com/event/127-yard-sale-central-ky-ag-expo-2/
LOCATION:Central KY Ag Expo Center\, 678 Wallace Wilkinson Blvd\, Liberty\, KY\, 42539
CATEGORIES:Shopping
ATTACH;FMTTYPE=image/jpeg:https://explorelibertyky.com/wp-content/uploads/2026/01/619348363_1480003967330157_8523306470166505552_n.jpg
END:VEVENT
BEGIN:VEVENT
DTSTART;TZID=America/New_York:20260814T183000
DTEND;TZID=America/New_York:20260814T213000
DTSTAMP:20260424T120757
CREATED:20260224T135443Z
LAST-MODIFIED:20260224T135443Z
UID:10000567-1786732200-1786743000@explorelibertyky.com
SUMMARY:Summer Music Series- Cam Clark and His Orchestra
DESCRIPTION:The 4th Season of the Summer Music Series is HERE and your Second Fridays just got better. \nWHO: You. Bring a chair. Bring your people. Stay awhile. \nWHAT: FREE Live Music + Local Food & Drinks \nWHEN: Food & Drinks at 6:30 PM ET | Music at 6:45 PM ET \nWHERE: City Green Stage | Downtown Liberty \n2026 Lineup\, Every 2nd Friday\, May–September: \nMay 8- Clay Johnson and the Hard Promises with Alayna Bodner \nJune 12- The Dirty Grass Players with T.H. Wells \nJuly 10- Magnolia Boulevard with Anthony Kennedy \nAugust 14- Cam Clark and His Orchestra with Hunter Daniels \nSeptember 11- Nicholas Jamerson and The Morning Jays with Aidan Palmer \nFive unforgettable nights. \nOne incredible stage. \nAll summer long. \nClick “Going” on each event so you don’t miss updates. \nExploreLibertyKY.com | 606-706-7777
URL:https://explorelibertyky.com/event/summer-music-series-cam-clark-and-his-orchestra/
LOCATION:City Green Stage\, 518 Middleburg Street\, Liberty\, KY\, 42539\, United States
CATEGORIES:Music,Outdoor Events
ATTACH;FMTTYPE=image/png:https://explorelibertyky.com/wp-content/uploads/2026/02/SMS-2026-FB-SOCIAL-Poster-3-scaled.png
ORGANIZER;CN="Liberty Tourism &amp%3B Convention Commission":MAILTO:noreply@facebookmail.com
END:VEVENT
END:VCALENDAR