BEGIN:VCALENDAR
VERSION:2.0
PRODID:-//Liberty, Kentucky - ECPv6.15.20//NONSGML v1.0//EN
CALSCALE:GREGORIAN
METHOD:PUBLISH
X-WR-CALNAME:Liberty, Kentucky
X-ORIGINAL-URL:https://explorelibertyky.com
X-WR-CALDESC:Events for Liberty, Kentucky
REFRESH-INTERVAL;VALUE=DURATION:PT1H
X-Robots-Tag:noindex
X-PUBLISHED-TTL:PT1H
BEGIN:VTIMEZONE
TZID:America/New_York
BEGIN:DAYLIGHT
TZOFFSETFROM:-0500
TZOFFSETTO:-0400
TZNAME:EDT
DTSTART:20200308T070000
END:DAYLIGHT
BEGIN:STANDARD
TZOFFSETFROM:-0400
TZOFFSETTO:-0500
TZNAME:EST
DTSTART:20201101T060000
END:STANDARD
BEGIN:DAYLIGHT
TZOFFSETFROM:-0500
TZOFFSETTO:-0400
TZNAME:EDT
DTSTART:20210314T070000
END:DAYLIGHT
BEGIN:STANDARD
TZOFFSETFROM:-0400
TZOFFSETTO:-0500
TZNAME:EST
DTSTART:20211107T060000
END:STANDARD
BEGIN:DAYLIGHT
TZOFFSETFROM:-0500
TZOFFSETTO:-0400
TZNAME:EDT
DTSTART:20220313T070000
END:DAYLIGHT
BEGIN:STANDARD
TZOFFSETFROM:-0400
TZOFFSETTO:-0500
TZNAME:EST
DTSTART:20221106T060000
END:STANDARD
BEGIN:DAYLIGHT
TZOFFSETFROM:-0500
TZOFFSETTO:-0400
TZNAME:EDT
DTSTART:20230312T070000
END:DAYLIGHT
BEGIN:STANDARD
TZOFFSETFROM:-0400
TZOFFSETTO:-0500
TZNAME:EST
DTSTART:20231105T060000
END:STANDARD
END:VTIMEZONE
BEGIN:VEVENT
DTSTART;TZID=America/New_York:20210704T130000
DTEND;TZID=America/New_York:20210704T223000
DTSTAMP:20260424T092123
CREATED:20210621T133239Z
LAST-MODIFIED:20210621T134832Z
UID:10000182-1625403600-1625437800@explorelibertyky.com
SUMMARY:Liberty's 4th of July Celebration!
DESCRIPTION:What better place to celebrate our independence than in LIBERTY! Liberty\, KY that is! We enjoy a great community event full of free activities for the whole family and especially the kids! Come on out to Liberty’s City Hall to celebrate with us! See the schedule below! \n1:00 PM– Festivities behind City Hall\, FREE hotdogs\, slushies\, popcorn\, water\, & inflatables \n2:00-3:00 PM– Games for all ages\, City Hall Green \n3:30 PM– Kiddie Parade through downtown\, beginning at City Hall \n5:00 PM– Vendors open around Court House Sq. \n6:45-7:45 PM– Crossing Contown Performance\, Court House Sq. \n8-10 PM– Derrick Wesley and Band\, Court House Sq. \n10:00 PM- Fireworks at the Central KY Ag Expo Center \n*Bring a chair to better enjoy the day! \n*Fireworks can be viewed from the Central KY Ag Expo Center OR from Downtown Liberty.
URL:https://explorelibertyky.com/event/libertys-4th-of-july-celebration/
LOCATION:City Hall\, 518 Middleburg St\, Liberty\, 42539\, United States
CATEGORIES:Arts and Crafts,Entertainment,Shopping
ATTACH;FMTTYPE=image/png:https://explorelibertyky.com/wp-content/uploads/2021/06/Copy-of-4th-of-July-2021-1.png
ORGANIZER;CN="Liberty Tourism & Convention Commission":MAILTO:contact@explorelibertyky.com
END:VEVENT
BEGIN:VEVENT
DTSTART;TZID=America/New_York:20211203T170000
DTEND;TZID=America/New_York:20211203T190000
DTSTAMP:20260424T092123
CREATED:20211015T140353Z
LAST-MODIFIED:20211015T143157Z
UID:10000216-1638550800-1638558000@explorelibertyky.com
SUMMARY:Retro Rockin' Christmas
DESCRIPTION:Join us for a Retro Rockin’ Christmas celebration in downtown Liberty\, KY!\nDecember 3rd\, 5:00-7:00 PM.\nVendors\, visit with Santa\, caroling\, free food\, hot chocolate\, and parade at 6:00 PM. Parade sponsored by the Campbellsville University of Liberty. Float winners: 1st- $250\, 2nd- $150\, 3rd-$100.\nEvent hosted by Liberty/Casey County Chamber of Commerce and the City of Liberty.
URL:https://explorelibertyky.com/event/retro-rockin-christmas/
LOCATION:Downtown Liberty\, 137 Courthouse Square\, Liberty\, KY\, 42539
CATEGORIES:Arts and Crafts,Entertainment,Shopping
ATTACH;FMTTYPE=image/png:https://explorelibertyky.com/wp-content/uploads/2021/10/Copy-of-Copy-of-Copy-of-Copy-of-Blue-Green-Simple-Music-Festival-Facebook-Event-Cover-Photo-3.png
ORGANIZER;CN="Liberty Chamber of Commerce":MAILTO:libertycaseychamber@gmail.com
END:VEVENT
BEGIN:VEVENT
DTSTART;TZID=America/New_York:20220922T150000
DTEND;TZID=America/New_York:20220924T235900
DTSTAMP:20260424T092123
CREATED:20220622T143404Z
LAST-MODIFIED:20220622T143404Z
UID:10000241-1663858800-1664063940@explorelibertyky.com
SUMMARY:2022 Casey County Apple Festival
DESCRIPTION:Casey County Apple Festival will be held on September 22-24\, 2022. There will be live music\, concert\, pageants\, contests\, a parade\, carnival\, flea market booths\, arts and crafts vendors\, apples\, food vendors\, and more.\nHours:\nThu 3pm-11pm;\nFri 8am-midnight;\nSat 8am-midnight\nFull schedule TBA
URL:https://explorelibertyky.com/event/2022-casey-county-apple-festival/
LOCATION:Downtown Liberty\, 137 Courthouse Square\, Liberty\, KY\, 42539
CATEGORIES:Arts and Crafts,Entertainment,Outdoor Events,Shopping
ATTACH;FMTTYPE=image/jpeg:https://explorelibertyky.com/wp-content/uploads/2022/06/2022-Casey-County-Apple-Festival.jpeg
ORGANIZER;CN="Liberty Tourism & Convention Commission":MAILTO:contact@explorelibertyky.com
END:VEVENT
END:VCALENDAR