BEGIN:VCALENDAR
VERSION:2.0
PRODID:-//Liberty, Kentucky - ECPv6.15.20//NONSGML v1.0//EN
CALSCALE:GREGORIAN
METHOD:PUBLISH
X-WR-CALNAME:Liberty, Kentucky
X-ORIGINAL-URL:https://explorelibertyky.com
X-WR-CALDESC:Events for Liberty, Kentucky
REFRESH-INTERVAL;VALUE=DURATION:PT1H
X-Robots-Tag:noindex
X-PUBLISHED-TTL:PT1H
BEGIN:VTIMEZONE
TZID:America/New_York
BEGIN:DAYLIGHT
TZOFFSETFROM:-0500
TZOFFSETTO:-0400
TZNAME:EDT
DTSTART:20240310T070000
END:DAYLIGHT
BEGIN:STANDARD
TZOFFSETFROM:-0400
TZOFFSETTO:-0500
TZNAME:EST
DTSTART:20241103T060000
END:STANDARD
BEGIN:DAYLIGHT
TZOFFSETFROM:-0500
TZOFFSETTO:-0400
TZNAME:EDT
DTSTART:20250309T070000
END:DAYLIGHT
BEGIN:STANDARD
TZOFFSETFROM:-0400
TZOFFSETTO:-0500
TZNAME:EST
DTSTART:20251102T060000
END:STANDARD
BEGIN:DAYLIGHT
TZOFFSETFROM:-0500
TZOFFSETTO:-0400
TZNAME:EDT
DTSTART:20260308T070000
END:DAYLIGHT
BEGIN:STANDARD
TZOFFSETFROM:-0400
TZOFFSETTO:-0500
TZNAME:EST
DTSTART:20261101T060000
END:STANDARD
END:VTIMEZONE
BEGIN:VEVENT
DTSTART;TZID=America/New_York:20251025T150000
DTEND;TZID=America/New_York:20251025T170000
DTSTAMP:20260419T143652
CREATED:20250731T161417Z
LAST-MODIFIED:20250731T161417Z
UID:10000504-1761404400-1761411600@explorelibertyky.com
SUMMARY:4th Annual Trail & Treat
DESCRIPTION:Come out to the 4th Annual Liberty Trail & Treat on Saturday\, October 25th\, 2025\, from 3-5 PM EST!Walk the Liberty Island trail to enjoy GAMES\, ACTIVITIES\, CRAFTS\, TREATS\, & ADVENTURE!FREE FREE FREE public eventWe have something for all ages!\nPhoto opp on-site\nThe Liberty Island Trail entrance can be accessed from the Central Ky Ag Expo Center:678 Wallace Wilkinson Blvd\, Liberty\, KY 42539or Downtown Liberty\, behind the Casey County Detention Center69 Court House Square\, Liberty\, KY 42539This event is made possible by Liberty Tourism and Community Organizations.\nIf you would like to setup at this event\, please fill out the link below. https://forms.gle/M18aMtuu8PzTny2H6
URL:https://explorelibertyky.com/event/4th-annual-trail-treat/
LOCATION:Liberty Island
CATEGORIES:Outdoor Events
ATTACH;FMTTYPE=image/jpeg:https://explorelibertyky.com/wp-content/uploads/2025/07/Trail-Treat-.jpg
ORGANIZER;CN="Liberty Tourism & Convention Commission":MAILTO:contact@explorelibertyky.com
END:VEVENT
END:VCALENDAR