BEGIN:VCALENDAR
VERSION:2.0
PRODID:-//Liberty, Kentucky - ECPv6.15.20//NONSGML v1.0//EN
CALSCALE:GREGORIAN
METHOD:PUBLISH
X-WR-CALNAME:Liberty, Kentucky
X-ORIGINAL-URL:https://explorelibertyky.com
X-WR-CALDESC:Events for Liberty, Kentucky
REFRESH-INTERVAL;VALUE=DURATION:PT1H
X-Robots-Tag:noindex
X-PUBLISHED-TTL:PT1H
BEGIN:VTIMEZONE
TZID:America/New_York
BEGIN:DAYLIGHT
TZOFFSETFROM:-0500
TZOFFSETTO:-0400
TZNAME:EDT
DTSTART:20190310T070000
END:DAYLIGHT
BEGIN:STANDARD
TZOFFSETFROM:-0400
TZOFFSETTO:-0500
TZNAME:EST
DTSTART:20191103T060000
END:STANDARD
BEGIN:DAYLIGHT
TZOFFSETFROM:-0500
TZOFFSETTO:-0400
TZNAME:EDT
DTSTART:20200308T070000
END:DAYLIGHT
BEGIN:STANDARD
TZOFFSETFROM:-0400
TZOFFSETTO:-0500
TZNAME:EST
DTSTART:20201101T060000
END:STANDARD
BEGIN:DAYLIGHT
TZOFFSETFROM:-0500
TZOFFSETTO:-0400
TZNAME:EDT
DTSTART:20210314T070000
END:DAYLIGHT
BEGIN:STANDARD
TZOFFSETFROM:-0400
TZOFFSETTO:-0500
TZNAME:EST
DTSTART:20211107T060000
END:STANDARD
BEGIN:DAYLIGHT
TZOFFSETFROM:-0500
TZOFFSETTO:-0400
TZNAME:EDT
DTSTART:20220313T070000
END:DAYLIGHT
BEGIN:STANDARD
TZOFFSETFROM:-0400
TZOFFSETTO:-0500
TZNAME:EST
DTSTART:20221106T060000
END:STANDARD
BEGIN:DAYLIGHT
TZOFFSETFROM:-0500
TZOFFSETTO:-0400
TZNAME:EDT
DTSTART:20230312T070000
END:DAYLIGHT
BEGIN:STANDARD
TZOFFSETFROM:-0400
TZOFFSETTO:-0500
TZNAME:EST
DTSTART:20231105T060000
END:STANDARD
END:VTIMEZONE
BEGIN:VEVENT
DTSTART;VALUE=DATE:20200215
DTEND;VALUE=DATE:20200216
DTSTAMP:20260419T092828
CREATED:20200110T183829Z
LAST-MODIFIED:20200211T181348Z
UID:10000071-1581724800-1581811199@explorelibertyky.com
SUMMARY:Heartbreaker Bullring Bash- Indoor Kart Racing
DESCRIPTION:Karting Indoor Dirt Track\nLiberty Indoors is hosting Heartbreaker Bullring Bash\, February 15th at the Central KY Ag Expo Center.\nIndoor 10’x10′ Parking-$20.00\nOutside Front & 2nd Row-$20.00\n3rd-row parking- Free/No reservation\nGate fee-$15.00\nGates open at 7:00 am\nHot Laps 10:00 am\nFor Parking reservations or questions call 270-465-6481 or 859-583-5778\nView flyer for more information or contact Liberty Indoors.https://www.facebook.com/LibertyIndoors/
URL:https://explorelibertyky.com/event/liberty-indoors-burris-blizzard-blowout-2/
LOCATION:Central KY Ag Expo Center\, 678 Wallace Wilkinson Blvd\, Liberty\, KY\, 42539
CATEGORIES:Sporting Events
ATTACH;FMTTYPE=image/jpeg:https://explorelibertyky.com/wp-content/uploads/2020/01/82810724_2958011347551182_5673634600966946816_n.jpg
ORGANIZER;CN="Liberty Indoors":MAILTO:lisasport1@aol.com
END:VEVENT
BEGIN:VEVENT
DTSTART;TZID=America/New_York:20200222T120000
DTEND;TZID=America/New_York:20200222T170000
DTSTAMP:20260419T092828
CREATED:20200110T184314Z
LAST-MODIFIED:20200211T201702Z
UID:10000069-1582372800-1582390800@explorelibertyky.com
SUMMARY:7th Annual Winter Nationals Garden Tractor Pull
DESCRIPTION:Saturday\, February 22\, 2020. The event will be held at Central Ky Ag/Expo Center in Casey County\, KY @ 12 PM EST/11 AM CST.\nAdmission- $5 per person\n50% payback each class\nOutlaw Classes (Draggin’ Waggon Sled)-$25 Entry Fee per class\nVS Mini Rod Classes-Small Block-$25 Entry Fee per class\nSinger/Twin Classes (G.C.P.A. Sled)- $20 Entry Fee per class\n**SEE ATTACHED POSTER FOR CONTACT INFORMATION AND DETAILS
URL:https://explorelibertyky.com/event/national-garden-tractor-pull/
LOCATION:Central KY Ag Expo Center\, 678 Wallace Wilkinson Blvd\, Liberty\, KY\, 42539
CATEGORIES:Sporting Events
ATTACH;FMTTYPE=image/png:https://explorelibertyky.com/wp-content/uploads/2020/01/Screen-Shot-2020-02-11-at-2.49.52-PM.png
END:VEVENT
BEGIN:VEVENT
DTSTART;TZID=America/New_York:20200718T100000
DTEND;TZID=America/New_York:20200718T140000
DTSTAMP:20260419T092828
CREATED:20200626T144200Z
LAST-MODIFIED:20200626T144200Z
UID:10000005-1595066400-1595080800@explorelibertyky.com
SUMMARY:Aloha! Lets Luau!
DESCRIPTION:We are excited to celebrate our second Luau at LPS! If you’re ready to enjoy some tasty treats\, fun\, and summer clothing *along with sales of course* – mark your calendars! \n#thelittlepinkshop\n#shoplps
URL:https://explorelibertyky.com/event/aloha-lets-luau/
LOCATION:KY
CATEGORIES:Shopping
ATTACH;FMTTYPE=image/jpeg:https://explorelibertyky.com/wp-content/uploads/2016/04/The-Little-Pink-Shop-Liberty-KY.jpg
END:VEVENT
BEGIN:VEVENT
DTSTART;VALUE=DATE:20200806
DTEND;VALUE=DATE:20200810
DTSTAMP:20260419T092828
CREATED:20200626T142714Z
LAST-MODIFIED:20200626T142727Z
UID:10000004-1596672000-1597017599@explorelibertyky.com
SUMMARY:127 Yard Sale
DESCRIPTION:Please see 127 Updates for the latest Covid-19 updates and information. \nFor questions regarding the 127 and the Central KY ag expo center\, call 606) 787-4740. \n 
URL:https://explorelibertyky.com/event/127-yard-sale/
LOCATION:Central KY Ag Expo Center\, 678 Wallace Wilkinson Blvd\, Liberty\, KY\, 42539
CATEGORIES:Arts and Crafts,Shopping
ATTACH;FMTTYPE=image/png:https://explorelibertyky.com/wp-content/uploads/2020/06/Screen-Shot-2020-06-26-at-10.22.56-AM.png
END:VEVENT
BEGIN:VEVENT
DTSTART;TZID=America/New_York:20210211T170000
DTEND;TZID=America/New_York:20210211T180000
DTSTAMP:20260419T092828
CREATED:20210201T191352Z
LAST-MODIFIED:20210201T191352Z
UID:10000115-1613062800-1613066400@explorelibertyky.com
SUMMARY:Liberty Tourism Board Meeting-Zoom
DESCRIPTION:Our regularly scheduled Tourism Meeting is held the 2nd Thursday of every month via Zoom. The public is welcome to attend. We ask that any attendee mute their speakers until asked to speak. Anyone who refuses to identify themselves will be removed from the meeting.\n\nIn order to receive a link to the meeting\, please pre-register by filling out this form:\nhttps://docs.google.com/forms/d/e/1FAIpQLScAFUPHCc4vTJ2oQxRqpkQ5KHewCuFqcRwjr3-5wnK8kbknWg/viewform?fbclid=IwAR38VQ6jOQ2ypIxndLL8WkGn-vB9QL5pkmaspb3Kvb1K_nlRWlTjiaMmz6E
URL:https://explorelibertyky.com/event/liberty-tourism-board-meeting-zoom/
LOCATION:KY
ORGANIZER;CN="Liberty Tourism & Convention Commission":MAILTO:contact@explorelibertyky.com
END:VEVENT
BEGIN:VEVENT
DTSTART;TZID=America/New_York:20210227T170000
DTEND;TZID=America/New_York:20210227T190000
DTSTAMP:20260419T092828
CREATED:20210201T201434Z
LAST-MODIFIED:20210201T202250Z
UID:10000016-1614445200-1614452400@explorelibertyky.com
SUMMARY:Flip Cup Pour Painting Class
DESCRIPTION:What is acrylic paint pouring? It’s a form of abstract painting using fluid acrylic paints.\n​Instead of using paintbrushes\, we pour the paint on the canvas. It’s fun and easy!\nAll supplies are included – choose your own colors\, and you get two canvases!\n\nFlip Cup Technique\n​In this class\, you’ll create 2 paintings using the flip cup technique. Basically\, you’ll pour several colors into a cup\, and flip the cup onto the canvas. The paint pours out\, and then you tip and tilt the canvas\, using gravity to move the paint around. The colors swirl and form a super cool abstract painting!\nWe end up with a lot of paint on the canvases\, so they’ll need to dry overnight before you can take them home. Plan on picking up your paintings the following Monday.\n\nAges 10+
URL:https://explorelibertyky.com/event/flip-cup-pour-painting-class/
LOCATION:Liberty Gifts & More\, 156 Houstonville St.\, Liberty\, KY\, 42539\, United States
CATEGORIES:Arts and Crafts
ATTACH;FMTTYPE=image/jpeg:https://explorelibertyky.com/wp-content/uploads/2021/02/143774434_496088885122564_5372763424047990024_n.jpg
END:VEVENT
BEGIN:VEVENT
DTSTART;TZID=America/New_York:20210306T170000
DTEND;TZID=America/New_York:20210306T193000
DTSTAMP:20260419T092828
CREATED:20210225T174701Z
LAST-MODIFIED:20210225T174701Z
UID:10000019-1615050000-1615059000@explorelibertyky.com
SUMMARY:Flip and Drag Technique Pour Painting Class
DESCRIPTION:What is acrylic paint pouring? It’s a form of abstract painting using fluid acrylic paints.\n​Instead of using paintbrushes\, we pour the paint on the canvas. It’s fun and easy!\nAll supplies are included – choose your own colors\, and you get two canvases!\n\nSimilar to the flip cup technique\, but instead of lifting the cup up\, we glide it through wet paint. Then we use a straw to blow out the edges.\n​This makes for a cool dragon effect.\nAll supplies plus two canvases are included. Choose your own colors!\n*ALL DAY come and go as you’d like*\nPlease call to make reservations\n$25 gets you 2 – 5×7 canvas and 1 8×10 canvas\n$40 gets you 1 5×7\, and 1 16×20
URL:https://explorelibertyky.com/event/flip-and-drag-technique-pour-painting-class/
LOCATION:Liberty Gifts & More\, 156 Houstonville St.\, Liberty\, KY\, 42539\, United States
CATEGORIES:Arts and Crafts
ORGANIZER;CN="Liberty Gifts & More":MAILTO:libertygiftsandmore@gmail.com
END:VEVENT
BEGIN:VEVENT
DTSTART;TZID=America/New_York:20210311T170000
DTEND;TZID=America/New_York:20210311T180000
DTSTAMP:20260419T092828
CREATED:20210225T175816Z
LAST-MODIFIED:20210225T175816Z
UID:10000157-1615482000-1615485600@explorelibertyky.com
SUMMARY:Liberty Tourism Board Meeting-Zoom
DESCRIPTION:Our regularly scheduled Tourism Meeting is held the 2nd Thursday of every month via Zoom. The public is welcome to attend. We ask that any attendee mute their speakers until asked to speak. Anyone who refuses to identify themselves will be removed from the meeting.\nIn order to receive a link to the meeting\, please pre-register by filling out this form:\nhttps://forms.gle/3eJ1qMEKEhfRenDX6
URL:https://explorelibertyky.com/event/liberty-tourism-board-meeting-zoom-3/
LOCATION:KY
ORGANIZER;CN="Liberty Tourism & Convention Commission":MAILTO:contact@explorelibertyky.com
END:VEVENT
BEGIN:VEVENT
DTSTART;TZID=America/New_York:20210319T153000
DTEND;TZID=America/New_York:20210320T190000
DTSTAMP:20260419T092828
CREATED:20210319T150000Z
LAST-MODIFIED:20210319T150607Z
UID:10000024-1616167800-1616266800@explorelibertyky.com
SUMMARY:IBRA- Barrel Racing & Pole Bending
DESCRIPTION:FREE for spectators\nIBRA returns to Liberty on March 19th & 20th!!\nGates Open Friday\, March 19th at 3 PM.\nSee the show flier for more details.\nhttps://ibra.us/shows/US-KY/approvedShows.php
URL:https://explorelibertyky.com/event/ibra-barrel-racing-pole-bending/
LOCATION:Central KY Ag Expo Center\, 678 Wallace Wilkinson Blvd\, Liberty\, KY\, 42539
END:VEVENT
BEGIN:VEVENT
DTSTART;TZID=America/New_York:20210329T080000
DTEND;TZID=America/New_York:20210403T170000
DTSTAMP:20260419T092828
CREATED:20210319T153105Z
LAST-MODIFIED:20210331T004334Z
UID:10000026-1617004800-1617469200@explorelibertyky.com
SUMMARY:Easter Scavenger Hunt-Downtown Liberty
DESCRIPTION:Easter Scavenger Hunt\nDowntown Liberty\, KY\nMarch 29th-April 3rd\nDrawing April 5th\n1 Grand Giveaway Basket\n& 10 other prizes!\nBegin at ANY of the participating retailers to start the fun!\n1. Each hidden item found = ONE chance to win!\n2. Each purchase at participating shops =ONE chance to win! Limit 1 per location daily.\n3. Find ALL 6 hidden items (have each business punch YOUR card) get 6 MORE chances!\n******************Limit 1 card per FAMILY*****************\n*11 WINNERS will be drawn on April 5th\n*Check each business for individual hours and sales\n*No purchase necessary. Play for chances and/or shop for MORE chances!\nPARTICIPATING BUSINESSES:\nRidge Top Designs\nThe Little Pink Shop\nThe Pink Peony\nLiberty Gifts & More\nSouthern Lilly\nThe Fish Room
URL:https://explorelibertyky.com/event/easter-scavenger-hunt-downtown-liberty/
LOCATION:Downtown Liberty\, 137 Courthouse Square\, Liberty\, KY\, 42539
CATEGORIES:Shopping
ATTACH;FMTTYPE=image/jpeg:https://explorelibertyky.com/wp-content/uploads/2021/03/162447762_2726401717671523_1445328093348474437_o.jpeg
END:VEVENT
BEGIN:VEVENT
DTSTART;TZID=America/New_York:20210403T170000
DTEND;TZID=America/New_York:20210403T193000
DTSTAMP:20260419T092828
CREATED:20210225T180902Z
LAST-MODIFIED:20210331T004309Z
UID:10000163-1617469200-1617478200@explorelibertyky.com
SUMMARY:Rustic cross Canvas Painting
DESCRIPTION:This stunning display of color celebrates the beauty of the Easter season. Gather with your family or friends for an evening of painting.\n~2.5 hours of guided paint time.\nCost is $25.
URL:https://explorelibertyky.com/event/folk-art-easter-canvas-painting-2/
LOCATION:Liberty Gifts & More\, 156 Houstonville St.\, Liberty\, KY\, 42539\, United States
CATEGORIES:Arts and Crafts
ORGANIZER;CN="Liberty Gifts & More":MAILTO:libertygiftsandmore@gmail.com
END:VEVENT
BEGIN:VEVENT
DTSTART;TZID=America/New_York:20210416T080000
DTEND;TZID=America/New_York:20210417T170000
DTSTAMP:20260419T092828
CREATED:20210319T154204Z
LAST-MODIFIED:20210319T154204Z
UID:10000029-1618560000-1618678800@explorelibertyky.com
SUMMARY:IBRA- Barrel Racing & Pole Bending
DESCRIPTION:Free to spectators!\nIBRA returns to Liberty on April 16th & 17th!!\nGates Open Friday\, April 16th at 3 PM.\nSee the show flier for more details.
URL:https://explorelibertyky.com/event/ibra-barrel-racing-pole-bending-2/
LOCATION:Central KY Ag Expo Center\, 678 Wallace Wilkinson Blvd\, Liberty\, KY\, 42539
CATEGORIES:Sporting Events
END:VEVENT
BEGIN:VEVENT
DTSTART;TZID=America/New_York:20210417T170000
DTEND;TZID=America/New_York:20210417T193000
DTSTAMP:20260419T092828
CREATED:20210225T181909Z
LAST-MODIFIED:20210331T004208Z
UID:10000165-1618678800-1618687800@explorelibertyky.com
SUMMARY:Garden Gnome Canvas Paint
DESCRIPTION:Bring the magic of a garden inside with this trio of colorful\, plant-filled gnomes\nCost is $25 2.5hr guided paint
URL:https://explorelibertyky.com/event/garden-gnome-canvas-paint/
LOCATION:Liberty Gifts & More\, 156 Houstonville St.\, Liberty\, KY\, 42539\, United States
CATEGORIES:Arts and Crafts
ORGANIZER;CN="Liberty Gifts & More":MAILTO:libertygiftsandmore@gmail.com
END:VEVENT
BEGIN:VEVENT
DTSTART;TZID=America/New_York:20210704T130000
DTEND;TZID=America/New_York:20210704T223000
DTSTAMP:20260419T092828
CREATED:20210621T133239Z
LAST-MODIFIED:20210621T134832Z
UID:10000182-1625403600-1625437800@explorelibertyky.com
SUMMARY:Liberty's 4th of July Celebration!
DESCRIPTION:What better place to celebrate our independence than in LIBERTY! Liberty\, KY that is! We enjoy a great community event full of free activities for the whole family and especially the kids! Come on out to Liberty’s City Hall to celebrate with us! See the schedule below! \n1:00 PM– Festivities behind City Hall\, FREE hotdogs\, slushies\, popcorn\, water\, & inflatables \n2:00-3:00 PM– Games for all ages\, City Hall Green \n3:30 PM– Kiddie Parade through downtown\, beginning at City Hall \n5:00 PM– Vendors open around Court House Sq. \n6:45-7:45 PM– Crossing Contown Performance\, Court House Sq. \n8-10 PM– Derrick Wesley and Band\, Court House Sq. \n10:00 PM- Fireworks at the Central KY Ag Expo Center \n*Bring a chair to better enjoy the day! \n*Fireworks can be viewed from the Central KY Ag Expo Center OR from Downtown Liberty.
URL:https://explorelibertyky.com/event/libertys-4th-of-july-celebration/
LOCATION:City Hall\, 518 Middleburg St\, Liberty\, 42539\, United States
CATEGORIES:Arts and Crafts,Entertainment,Shopping
ATTACH;FMTTYPE=image/png:https://explorelibertyky.com/wp-content/uploads/2021/06/Copy-of-4th-of-July-2021-1.png
ORGANIZER;CN="Liberty Tourism & Convention Commission":MAILTO:contact@explorelibertyky.com
END:VEVENT
BEGIN:VEVENT
DTSTART;TZID=America/New_York:20210805T080000
DTEND;TZID=America/New_York:20210808T210000
DTSTAMP:20260419T092828
CREATED:20210803T123813Z
LAST-MODIFIED:20210803T123813Z
UID:10000210-1628150400-1628456400@explorelibertyky.com
SUMMARY:127 Yardsale- Central KY Ag/Expo Center
DESCRIPTION:Enjoy  “The World’s Longest Yard Sale” in the covered arena of the Central Ky Ag/Expo Center. This facility houses 96 vendors inside the arena and more outside on the grounds.  Find all your yardsale fun in one place\, just south of Liberty\, KY. \n678 Wallace Wilkinson Blvd\, Liberty\, KY 42539
URL:https://explorelibertyky.com/event/127-yardsale-central-ky-ag-expo-center/
LOCATION:Central KY Ag Expo Center\, 678 Wallace Wilkinson Blvd\, Liberty\, KY\, 42539
END:VEVENT
BEGIN:VEVENT
DTSTART;TZID=America/New_York:20210812T163000
DTEND;TZID=America/New_York:20210812T193000
DTSTAMP:20260419T092828
CREATED:20210708T192911Z
LAST-MODIFIED:20210708T192911Z
UID:10000173-1628785800-1628796600@explorelibertyky.com
SUMMARY:Casey County Farmers Market
DESCRIPTION:The Casey County Farmers Market will begin on April 29th and continue through October. Come visit the Farmers Market around the Court House Square for fresh garden vegetables\, grass-fed beef\, fresh fruit\, baked goods\, local artisan crafts\, flowers\, and more!
URL:https://explorelibertyky.com/event/casey-county-farmers-market-29/
LOCATION:Downtown Liberty\, 137 Courthouse Square\, Liberty\, KY\, 42539
CATEGORIES:Farming/Produce
ATTACH;FMTTYPE=image/png:https://explorelibertyky.com/wp-content/uploads/2021/02/Copy-of-Copy-of-Copy-of-Casey-County-Farmers-Market.png
END:VEVENT
BEGIN:VEVENT
DTSTART;TZID=America/New_York:20220401T180000
DTEND;TZID=America/New_York:20220401T210000
DTSTAMP:20260419T092828
CREATED:20220120T163253Z
LAST-MODIFIED:20220120T163253Z
UID:10000194-1648836000-1648846800@explorelibertyky.com
SUMMARY:Liberty Friday Night Cruisers
DESCRIPTION:Come enjoy an evening in downtown Liberty on the 1st Friday of each month April-October. Downtown Court House Sq.\, Liberty\, KY.
URL:https://explorelibertyky.com/event/liberty-friday-night-cruisers-6/2022-04-01/
LOCATION:Downtown Liberty\, 137 Courthouse Square\, Liberty\, KY\, 42539
CATEGORIES:Entertainment,Sporting Events
ATTACH;FMTTYPE=image/png:https://explorelibertyky.com/wp-content/uploads/2022/01/Copy-of-Copy-of-Walsh-Band-Concert-Night-Band-Flyer.png
END:VEVENT
BEGIN:VEVENT
DTSTART;TZID=America/New_York:20220506T180000
DTEND;TZID=America/New_York:20220506T210000
DTSTAMP:20260419T092828
CREATED:20220120T163253Z
LAST-MODIFIED:20220120T163253Z
UID:10000195-1651860000-1651870800@explorelibertyky.com
SUMMARY:Liberty Friday Night Cruisers
DESCRIPTION:Come enjoy an evening in downtown Liberty on the 1st Friday of each month April-October. Downtown Court House Sq.\, Liberty\, KY.
URL:https://explorelibertyky.com/event/liberty-friday-night-cruisers-6/2022-05-06/
LOCATION:Downtown Liberty\, 137 Courthouse Square\, Liberty\, KY\, 42539
CATEGORIES:Entertainment,Sporting Events
ATTACH;FMTTYPE=image/png:https://explorelibertyky.com/wp-content/uploads/2022/01/Copy-of-Copy-of-Walsh-Band-Concert-Night-Band-Flyer.png
END:VEVENT
BEGIN:VEVENT
DTSTART;TZID=America/New_York:20220603T180000
DTEND;TZID=America/New_York:20220603T210000
DTSTAMP:20260419T092828
CREATED:20220120T163253Z
LAST-MODIFIED:20220120T163253Z
UID:10000196-1654279200-1654290000@explorelibertyky.com
SUMMARY:Liberty Friday Night Cruisers
DESCRIPTION:Come enjoy an evening in downtown Liberty on the 1st Friday of each month April-October. Downtown Court House Sq.\, Liberty\, KY.
URL:https://explorelibertyky.com/event/liberty-friday-night-cruisers-6/2022-06-03/
LOCATION:Downtown Liberty\, 137 Courthouse Square\, Liberty\, KY\, 42539
CATEGORIES:Entertainment,Sporting Events
ATTACH;FMTTYPE=image/png:https://explorelibertyky.com/wp-content/uploads/2022/01/Copy-of-Copy-of-Walsh-Band-Concert-Night-Band-Flyer.png
END:VEVENT
BEGIN:VEVENT
DTSTART;TZID=America/New_York:20220701T180000
DTEND;TZID=America/New_York:20220701T210000
DTSTAMP:20260419T092828
CREATED:20220120T163253Z
LAST-MODIFIED:20220120T163253Z
UID:10000197-1656698400-1656709200@explorelibertyky.com
SUMMARY:Liberty Friday Night Cruisers
DESCRIPTION:Come enjoy an evening in downtown Liberty on the 1st Friday of each month April-October. Downtown Court House Sq.\, Liberty\, KY.
URL:https://explorelibertyky.com/event/liberty-friday-night-cruisers-6/2022-07-01/
LOCATION:Downtown Liberty\, 137 Courthouse Square\, Liberty\, KY\, 42539
CATEGORIES:Entertainment,Sporting Events
ATTACH;FMTTYPE=image/png:https://explorelibertyky.com/wp-content/uploads/2022/01/Copy-of-Copy-of-Walsh-Band-Concert-Night-Band-Flyer.png
END:VEVENT
BEGIN:VEVENT
DTSTART;TZID=America/New_York:20220804T080000
DTEND;TZID=America/New_York:20220807T230000
DTSTAMP:20260419T092828
CREATED:20220622T141557Z
LAST-MODIFIED:20220622T141557Z
UID:10000200-1659600000-1659913200@explorelibertyky.com
SUMMARY:127 Yard Sale- Central KY AG/Expo Center
DESCRIPTION:Enjoy “The World’s Longest Yard Sale” in the covered arena of the Central Ky Ag/Expo Center. This facility houses 100 vendors inside the arena and more outside on the grounds. Find all your yardsale fun in one place\, just south of Liberty\, KY.\n678 Wallace Wilkinson Blvd\, Liberty\, KY 42539
URL:https://explorelibertyky.com/event/127-yard-sale-central-ky-ag-expo-center/
LOCATION:Central KY Ag Expo Center\, 678 Wallace Wilkinson Blvd\, Liberty\, KY\, 42539
CATEGORIES:Arts and Crafts,Outdoor Events,Shopping
ATTACH;FMTTYPE=image/jpeg:https://explorelibertyky.com/wp-content/uploads/2022/06/127-Yard-Sale.jpeg
ORGANIZER;CN="Liberty Tourism & Convention Commission":MAILTO:contact@explorelibertyky.com
END:VEVENT
BEGIN:VEVENT
DTSTART;TZID=America/New_York:20220805T180000
DTEND;TZID=America/New_York:20220805T210000
DTSTAMP:20260419T092828
CREATED:20220120T163253Z
LAST-MODIFIED:20220120T163253Z
UID:10000198-1659722400-1659733200@explorelibertyky.com
SUMMARY:Liberty Friday Night Cruisers
DESCRIPTION:Come enjoy an evening in downtown Liberty on the 1st Friday of each month April-October. Downtown Court House Sq.\, Liberty\, KY.
URL:https://explorelibertyky.com/event/liberty-friday-night-cruisers-6/2022-08-05/
LOCATION:Downtown Liberty\, 137 Courthouse Square\, Liberty\, KY\, 42539
CATEGORIES:Entertainment,Sporting Events
ATTACH;FMTTYPE=image/png:https://explorelibertyky.com/wp-content/uploads/2022/01/Copy-of-Copy-of-Walsh-Band-Concert-Night-Band-Flyer.png
END:VEVENT
BEGIN:VEVENT
DTSTART;TZID=America/New_York:20220902T180000
DTEND;TZID=America/New_York:20220902T210000
DTSTAMP:20260419T092828
CREATED:20220120T163253Z
LAST-MODIFIED:20220120T163253Z
UID:10000199-1662141600-1662152400@explorelibertyky.com
SUMMARY:Liberty Friday Night Cruisers
DESCRIPTION:Come enjoy an evening in downtown Liberty on the 1st Friday of each month April-October. Downtown Court House Sq.\, Liberty\, KY.
URL:https://explorelibertyky.com/event/liberty-friday-night-cruisers-6/2022-09-02/
LOCATION:Downtown Liberty\, 137 Courthouse Square\, Liberty\, KY\, 42539
CATEGORIES:Entertainment,Sporting Events
ATTACH;FMTTYPE=image/png:https://explorelibertyky.com/wp-content/uploads/2022/01/Copy-of-Copy-of-Walsh-Band-Concert-Night-Band-Flyer.png
END:VEVENT
END:VCALENDAR