BEGIN:VCALENDAR
VERSION:2.0
PRODID:-//Liberty, Kentucky - ECPv6.15.20//NONSGML v1.0//EN
CALSCALE:GREGORIAN
METHOD:PUBLISH
X-ORIGINAL-URL:https://explorelibertyky.com
X-WR-CALDESC:Events for Liberty, Kentucky
REFRESH-INTERVAL;VALUE=DURATION:PT1H
X-Robots-Tag:noindex
X-PUBLISHED-TTL:PT1H
BEGIN:VTIMEZONE
TZID:America/New_York
BEGIN:DAYLIGHT
TZOFFSETFROM:-0500
TZOFFSETTO:-0400
TZNAME:EDT
DTSTART:20190310T070000
END:DAYLIGHT
BEGIN:STANDARD
TZOFFSETFROM:-0400
TZOFFSETTO:-0500
TZNAME:EST
DTSTART:20191103T060000
END:STANDARD
BEGIN:DAYLIGHT
TZOFFSETFROM:-0500
TZOFFSETTO:-0400
TZNAME:EDT
DTSTART:20200308T070000
END:DAYLIGHT
BEGIN:STANDARD
TZOFFSETFROM:-0400
TZOFFSETTO:-0500
TZNAME:EST
DTSTART:20201101T060000
END:STANDARD
BEGIN:DAYLIGHT
TZOFFSETFROM:-0500
TZOFFSETTO:-0400
TZNAME:EDT
DTSTART:20210314T070000
END:DAYLIGHT
BEGIN:STANDARD
TZOFFSETFROM:-0400
TZOFFSETTO:-0500
TZNAME:EST
DTSTART:20211107T060000
END:STANDARD
END:VTIMEZONE
BEGIN:VEVENT
DTSTART;TZID=America/New_York:20200611T163000
DTEND;TZID=America/New_York:20200611T193000
DTSTAMP:20260419T154423
CREATED:20200511T185441Z
LAST-MODIFIED:20200512T151516Z
UID:10000107-1591893000-1591903800@explorelibertyky.com
SUMMARY:Casey County Farmers Market
DESCRIPTION:The Casey County Farmer’s Market will return to Courthouse Square in Liberty\, KY on April 30th from 4:30-7:30. Be sure to visit each Thursday through October! \n*Due to COVID-19 we ask that only one shopper per family attend. \n*Social Distancing will be enforced as well as all CDC & KDA regulations. \nPlease visit their website for the latest shopping guidelines and information. \nhttps://www.facebook.com/Casey-County-Farmers-Market-2001803176807837/
URL:https://explorelibertyky.com/event/casey-county-farmers-market-7/
LOCATION:Downtown Liberty\, 137 Courthouse Square\, Liberty\, KY\, 42539
CATEGORIES:Amish/Mennonite Community,Shopping
ATTACH;FMTTYPE=image/png:https://explorelibertyky.com/wp-content/uploads/2020/04/Screen-Shot-2020-04-22-at-2.30.45-PM.png
END:VEVENT
END:VCALENDAR