BEGIN:VCALENDAR
VERSION:2.0
PRODID:-//Liberty, Kentucky - ECPv6.15.20//NONSGML v1.0//EN
CALSCALE:GREGORIAN
METHOD:PUBLISH
X-ORIGINAL-URL:https://explorelibertyky.com
X-WR-CALDESC:Events for Liberty, Kentucky
REFRESH-INTERVAL;VALUE=DURATION:PT1H
X-Robots-Tag:noindex
X-PUBLISHED-TTL:PT1H
BEGIN:VTIMEZONE
TZID:America/New_York
BEGIN:DAYLIGHT
TZOFFSETFROM:-0500
TZOFFSETTO:-0400
TZNAME:EDT
DTSTART:20220313T070000
END:DAYLIGHT
BEGIN:STANDARD
TZOFFSETFROM:-0400
TZOFFSETTO:-0500
TZNAME:EST
DTSTART:20221106T060000
END:STANDARD
BEGIN:DAYLIGHT
TZOFFSETFROM:-0500
TZOFFSETTO:-0400
TZNAME:EDT
DTSTART:20230312T070000
END:DAYLIGHT
BEGIN:STANDARD
TZOFFSETFROM:-0400
TZOFFSETTO:-0500
TZNAME:EST
DTSTART:20231105T060000
END:STANDARD
BEGIN:DAYLIGHT
TZOFFSETFROM:-0500
TZOFFSETTO:-0400
TZNAME:EDT
DTSTART:20240310T070000
END:DAYLIGHT
BEGIN:STANDARD
TZOFFSETFROM:-0400
TZOFFSETTO:-0500
TZNAME:EST
DTSTART:20241103T060000
END:STANDARD
END:VTIMEZONE
BEGIN:VEVENT
DTSTART;TZID=America/New_York:20230512T190000
DTEND;TZID=America/New_York:20230513T230000
DTSTAMP:20260419T225120
CREATED:20230307T160400Z
LAST-MODIFIED:20230307T160400Z
UID:10000259-1683918000-1684018800@explorelibertyky.com
SUMMARY:Midsouth Truck & Tractor Pull
DESCRIPTION:Hosted by Kentucky Classics\, this truck and tractor pull is one you will not want to miss! Tons of food\, trucks\, and tractors!
URL:https://explorelibertyky.com/event/midsouth-truck-tractor-pull/
LOCATION:Central KY Ag Expo Center\, 678 Wallace Wilkinson Blvd\, Liberty\, KY\, 42539
CATEGORIES:Entertainment,Outdoor Events
END:VEVENT
END:VCALENDAR