BEGIN:VCALENDAR
VERSION:2.0
PRODID:-//Liberty, Kentucky - ECPv6.15.20//NONSGML v1.0//EN
CALSCALE:GREGORIAN
METHOD:PUBLISH
X-WR-CALNAME:Liberty, Kentucky
X-ORIGINAL-URL:https://explorelibertyky.com
X-WR-CALDESC:Events for Liberty, Kentucky
REFRESH-INTERVAL;VALUE=DURATION:PT1H
X-Robots-Tag:noindex
X-PUBLISHED-TTL:PT1H
BEGIN:VTIMEZONE
TZID:America/New_York
BEGIN:DAYLIGHT
TZOFFSETFROM:-0500
TZOFFSETTO:-0400
TZNAME:EDT
DTSTART:20190310T070000
END:DAYLIGHT
BEGIN:STANDARD
TZOFFSETFROM:-0400
TZOFFSETTO:-0500
TZNAME:EST
DTSTART:20191103T060000
END:STANDARD
BEGIN:DAYLIGHT
TZOFFSETFROM:-0500
TZOFFSETTO:-0400
TZNAME:EDT
DTSTART:20200308T070000
END:DAYLIGHT
BEGIN:STANDARD
TZOFFSETFROM:-0400
TZOFFSETTO:-0500
TZNAME:EST
DTSTART:20201101T060000
END:STANDARD
BEGIN:DAYLIGHT
TZOFFSETFROM:-0500
TZOFFSETTO:-0400
TZNAME:EDT
DTSTART:20210314T070000
END:DAYLIGHT
BEGIN:STANDARD
TZOFFSETFROM:-0400
TZOFFSETTO:-0500
TZNAME:EST
DTSTART:20211107T060000
END:STANDARD
BEGIN:DAYLIGHT
TZOFFSETFROM:-0500
TZOFFSETTO:-0400
TZNAME:EDT
DTSTART:20220313T070000
END:DAYLIGHT
BEGIN:STANDARD
TZOFFSETFROM:-0400
TZOFFSETTO:-0500
TZNAME:EST
DTSTART:20221106T060000
END:STANDARD
END:VTIMEZONE
BEGIN:VEVENT
DTSTART;TZID=America/New_York:20210424T100000
DTEND;TZID=America/New_York:20210424T150000
DTSTAMP:20260419T135825
CREATED:20210329T171058Z
LAST-MODIFIED:20210331T004148Z
UID:10000185-1619258400-1619276400@explorelibertyky.com
SUMMARY:Spring Re-leaf- Rusty Joe's
DESCRIPTION:Come out for a fun Spring event! We love events and haven’t been able to have many because of covid.\nHowever\, we are back and planning some amazing girls’ nights and weekend events!!!!\nMark your calendars and join us for Spring Re-leaf. More information coming soon!\n\nRusty Joe’s
URL:https://explorelibertyky.com/event/spring-re-leaf-rusty-joes/
LOCATION:Rusty Joe’s\, 192 KY 910\, Liberty\, 42539\, United States
CATEGORIES:Shopping
ATTACH;FMTTYPE=image/jpeg:https://explorelibertyky.com/wp-content/uploads/2021/03/161709250_1585067968365993_4705176260177639125_n.jpeg
ORGANIZER;CN="Rusty Joe's":MAILTO:rustyjoesantiques@gmail.com
END:VEVENT
BEGIN:VEVENT
DTSTART;TZID=America/New_York:20210212T180000
DTEND;TZID=America/New_York:20210212T200000
DTSTAMP:20260419T135825
CREATED:20210201T191840Z
LAST-MODIFIED:20210201T192244Z
UID:10000114-1613152800-1613160000@explorelibertyky.com
SUMMARY:Galentine’s Ladies Night @ Rusty Joe's
DESCRIPTION:
URL:https://explorelibertyky.com/event/galentines-ladies-night/
LOCATION:Rusty Joe’s\, 192 KY 910\, Liberty\, 42539\, United States
ATTACH;FMTTYPE=image/jpeg:https://explorelibertyky.com/wp-content/uploads/2021/02/143190446_1549905465215577_5847619933628245880_n.jpg
END:VEVENT
BEGIN:VEVENT
DTSTART;TZID=America/New_York:20201215T180000
DTEND;TZID=America/New_York:20201215T210000
DTSTAMP:20260419T135825
CREATED:20201104T202848Z
LAST-MODIFIED:20201104T202848Z
UID:10000122-1608055200-1608066000@explorelibertyky.com
SUMMARY:Christmas Pajama Party-Rusty Joe's
DESCRIPTION:
URL:https://explorelibertyky.com/event/christmas-pajama-party-rusty-joes/
LOCATION:Rusty Joe’s\, 192 KY 910\, Liberty\, 42539\, United States
CATEGORIES:Shopping
ATTACH;FMTTYPE=image/jpeg:https://explorelibertyky.com/wp-content/uploads/2020/11/115791730_1401630310043094_1908862678019079665_n.jpg
ORGANIZER;CN="Rusty Joe's":MAILTO:rustyjoesantiques@gmail.com
END:VEVENT
BEGIN:VEVENT
DTSTART;TZID=America/New_York:20201017T190000
DTEND;TZID=America/New_York:20201017T210000
DTSTAMP:20260419T135825
CREATED:20200928T135531Z
LAST-MODIFIED:20200928T135531Z
UID:10000007-1602961200-1602968400@explorelibertyky.com
SUMMARY:Channel The Flannel
DESCRIPTION:So excited for our first ever\n– Channel the Flannel event- \nCome out for a night of fun. \nWear your flannel and receive extra deals!\n•free chili\, crackers and water\n•bonfire (s’mores)\n•sales\n•giveaways\nAnd so much more!!!!!
URL:https://explorelibertyky.com/event/channel-the-flannel/
LOCATION:Rusty Joe’s\, 192 KY 910\, Liberty\, 42539\, United States
CATEGORIES:Arts and Crafts,Shopping
ORGANIZER;CN="Rusty Joe's":MAILTO:rustyjoesantiques@gmail.com
END:VEVENT
END:VCALENDAR